BEGIN:VCALENDAR
VERSION:2.0
PRODID:-//ChamberMaster//Event Calendar 2.0//EN
METHOD:PUBLISH
X-PUBLISHED-TTL:P3D
REFRESH-INTERVAL:P3D
CALSCALE:GREGORIAN
BEGIN:VEVENT
DTSTART:20210407T233000Z
DTEND:20210408T003000Z
X-MICROSOFT-CDO-ALLDAYEVENT:FALSE
SUMMARY:Golf Committee Meeting
DESCRIPTION:Help plan the 2021 Mickey Cafagna Golf Tournament!
X-ALT-DESC;FMTTYPE=text/html:Help plan the 2021 Mickey Cafagna Golf Tournament!
LOCATION:This meeting\, April 7\, will meet at the Rancho Bernardo Inn at 4:30 pm. Please message chamber@poway.com to confirm interest in being on the committee.
UID:e.530.18722
SEQUENCE:3
DTSTAMP:20260420T025607Z
URL:https://business.poway.com/events/details/golf-committee-meeting-04-08-2021-18722
END:VEVENT

END:VCALENDAR
