BEGIN:VCALENDAR
VERSION:2.0
PRODID:-//ChamberMaster//Event Calendar 2.0//EN
METHOD:PUBLISH
X-PUBLISHED-TTL:P3D
REFRESH-INTERVAL:P3D
CALSCALE:GREGORIAN
BEGIN:VEVENT
DTSTART:20220309T020000Z
DTEND:20220309T033000Z
X-MICROSOFT-CDO-ALLDAYEVENT:FALSE
SUMMARY:General Membership Meeting
DESCRIPTION:The General Membership Meeting is an informative gathering of chamber members and will include a State of the Chamber address by President Mike Leland\, presentations and announcements from Committee Chairs\, an open Q&A forum\, and small group discussions with Ambassadors and members.\n\n\n\nLight refreshments will be served. Registration is required.\n\nSubmit a question to be discussed during the Q&A forum here.\n\n\n\nAdditionally\, members in attendance will have the opportunity to vote for the non-profit member beneficiary of the 9th Annual Mickey Cafagna Memorial Golf Classic. Paper ballots will be available at the meeting with a list of eligible Chamber members to select from (eligible members are non-profits with 501c3 designation\, and are in good standing with the Chamber). To learn more about the golf classic\, click here.
X-ALT-DESC;FMTTYPE=text/html:<p>The General Membership Meeting is an informative gathering of chamber members and will include a State of the Chamber address by President Mike Leland\, presentations and announcements from Committee Chairs\, an open Q&amp\;A forum\, and small group discussions with Ambassadors and members.<br />\n<br />\nLight refreshments will be served. Registration is required.</p>\n\n<p><strong><a href="https://docs.google.com/forms/d/e/1FAIpQLSeLG31IHUp3Ea1-pDKq09HBWnwVWFMrgedKZYjFEVdS566wCw/viewform?usp=sf_link">Submit a question to be discussed during the Q&amp\;A forum here.</a></strong><br />\n<br />\nAdditionally\, members in attendance will have the opportunity to vote for the non-profit member beneficiary of the 9th Annual Mickey Cafagna Memorial Golf Classic. Paper ballots will be available at the meeting with a list of eligible Chamber members to select from (eligible members are non-profits with 501c3 designation\, and are in good standing with the Chamber). To learn more about the golf classic\,&nbsp\;<a href="http://www.Birdease.com/PowayChamber">click here</a>.</p>\n
LOCATION:Mickey Cafagna Community Center Oak Hall East 13094 Civic Center Drive
UID:e.530.20426
SEQUENCE:3
DTSTAMP:20260420T010011Z
URL:https://business.poway.com/events/details/general-membership-meeting-20426
END:VEVENT

END:VCALENDAR
