BEGIN:VCALENDAR
VERSION:2.0
PRODID:-//ChamberMaster//Event Calendar 2.0//EN
METHOD:PUBLISH
X-PUBLISHED-TTL:P3D
REFRESH-INTERVAL:P3D
CALSCALE:GREGORIAN
BEGIN:VEVENT
DTSTART:20220218T013000Z
DTEND:20220218T033000Z
X-MICROSOFT-CDO-ALLDAYEVENT:FALSE
SUMMARY:February Mixer @ Brigantine
DESCRIPTION:"Laissez le bons temps rouler" - "Let the good times roll" at our annual Mardi Gras-themed Mixer hosted by The Brigantine Restaurant! Join us for this well-attended networking event with delicious Cajun-inspired food and drinks\, a Rollover Jackpot of $200 sponsored by California Dreaming Pools\, lots of exciting drawing prizes\, and the opportunity to meet our featured committee\, the Education Committee!
X-ALT-DESC;FMTTYPE=text/html:&quot\;Laissez le bons temps rouler&quot\; - &quot\;Let the good times roll&quot\; at our annual Mardi Gras-themed Mixer hosted by The Brigantine Restaurant! Join us for this well-attended networking event with delicious Cajun-inspired food and drinks\, a Rollover Jackpot of $200 sponsored by <a href="https://business.poway.com/list/member/california-dreaming-pools-10452">California Dreaming Pools</a>\, lots of exciting drawing prizes\, and the opportunity to meet our featured committee\, the <a href="https://poway.com/education">Education Committee</a>!
LOCATION:Brigantine Poway 13445 Poway Rd.
UID:e.530.20024
SEQUENCE:3
DTSTAMP:20260419T233018Z
URL:https://business.poway.com/events/details/february-mixer-brigantine-20024
END:VEVENT

END:VCALENDAR
