BEGIN:VCALENDAR
VERSION:2.0
PRODID:-//ChamberMaster//Event Calendar 2.0//EN
METHOD:PUBLISH
X-PUBLISHED-TTL:P3D
REFRESH-INTERVAL:P3D
CALSCALE:GREGORIAN
BEGIN:VEVENT
DTSTART:20200228T013000Z
DTEND:20200228T033000Z
X-MICROSOFT-CDO-ALLDAYEVENT:FALSE
SUMMARY:February Mixer at "The Brig"
DESCRIPTION:Come by The Brigantine Seafood Restaurant for a Mardi Gras themed evening. Stop on in for drinks\, great munchies\, drawing prizes and a wonderful evening with friends. Wear your best golf attire for a chance to win a complimentary twosome for the upcoming Mickey Cafagna Golf Tournament!
X-ALT-DESC;FMTTYPE=text/html:Come by The Brigantine Seafood Restaurant for a Mardi Gras&nbsp\;themed evening.&nbsp\;Stop on in for drinks\, great munchies\, drawing prizes and a wonderful evening with friends. <strong>Wear your best golf attire for a chance to win a complimentary twosome for the upcoming Mickey Cafagna Golf Tournament!</strong>
LOCATION:Brigantine Seafood Restaurant 13445 Poway Road Poway\, CA 92064
UID:e.530.16470
SEQUENCE:3
DTSTAMP:20260421T014327Z
URL:https://business.poway.com/events/details/february-mixer-at-the-brig-16470
END:VEVENT

END:VCALENDAR
