BEGIN:VCALENDAR
VERSION:2.0
PRODID:-//ChamberMaster//Event Calendar 2.0//EN
METHOD:PUBLISH
X-PUBLISHED-TTL:P3D
REFRESH-INTERVAL:P3D
CALSCALE:GREGORIAN
BEGIN:VEVENT
DTSTART:20151210T163000Z
DTEND:20151210T173000Z
X-MICROSOFT-CDO-ALLDAYEVENT:FALSE
SUMMARY:Executive Committee
DESCRIPTION:Executive Committee Meeting
X-ALT-DESC;FMTTYPE=text/html:Executive Committee Meeting
LOCATION:Poway Chamber Office 13381 Poway Road Poway\, CA 92064
UID:e.530.9134
SEQUENCE:3
DTSTAMP:20260421T020529Z
URL:https://business.poway.com/events/details/executive-committee-12-10-2015-9134
END:VEVENT

END:VCALENDAR
