BEGIN:VCALENDAR
VERSION:2.0
PRODID:-//ChamberMaster//Event Calendar 2.0//EN
METHOD:PUBLISH
X-PUBLISHED-TTL:P3D
REFRESH-INTERVAL:P3D
CALSCALE:GREGORIAN
BEGIN:VEVENT
DTSTART:20151112T163000Z
DTEND:20151112T173000Z
X-MICROSOFT-CDO-ALLDAYEVENT:FALSE
SUMMARY:Executive Committee
DESCRIPTION:Executive Committee Meeting
X-ALT-DESC;FMTTYPE=text/html:Executive Committee Meeting
LOCATION:Poway Chamber Office 13381 Poway Road Poway\, CA 92064
UID:e.530.9133
SEQUENCE:3
DTSTAMP:20260420T212758Z
URL:https://business.poway.com/events/details/executive-committee-11-12-2015-9133
END:VEVENT

END:VCALENDAR
