BEGIN:VCALENDAR
VERSION:2.0
PRODID:-//ChamberMaster//Event Calendar 2.0//EN
METHOD:PUBLISH
X-PUBLISHED-TTL:P3D
REFRESH-INTERVAL:P3D
CALSCALE:GREGORIAN
BEGIN:VEVENT
DTSTART:20200813T233000Z
DTEND:20200814T010000Z
X-MICROSOFT-CDO-ALLDAYEVENT:FALSE
SUMMARY:Executive Committee
DESCRIPTION:Executive Committee Meeting
X-ALT-DESC;FMTTYPE=text/html:Executive Committee Meeting
LOCATION:Poway Chamber Office
UID:e.530.16038
SEQUENCE:3
DTSTAMP:20260420T164819Z
URL:https://business.poway.com/events/details/executive-committee-08-13-2020-16038
END:VEVENT

END:VCALENDAR
