BEGIN:VCALENDAR
VERSION:2.0
PRODID:-//ChamberMaster//Event Calendar 2.0//EN
METHOD:PUBLISH
X-PUBLISHED-TTL:P3D
REFRESH-INTERVAL:P3D
CALSCALE:GREGORIAN
BEGIN:VEVENT
DTSTART:20150813T153000Z
DTEND:20150813T163000Z
X-MICROSOFT-CDO-ALLDAYEVENT:FALSE
SUMMARY:Executive Committee
DESCRIPTION:Executive Committee Meeting
X-ALT-DESC;FMTTYPE=text/html:Executive Committee Meeting
LOCATION:Poway Chamber Office 13381 Poway Road Poway\, CA 92064
UID:e.530.9130
SEQUENCE:3
DTSTAMP:20260421T050352Z
URL:https://business.poway.com/events/details/executive-committee-08-13-2015-9130
END:VEVENT

END:VCALENDAR
