BEGIN:VCALENDAR
VERSION:2.0
PRODID:-//ChamberMaster//Event Calendar 2.0//EN
METHOD:PUBLISH
X-PUBLISHED-TTL:P3D
REFRESH-INTERVAL:P3D
CALSCALE:GREGORIAN
BEGIN:VEVENT
DTSTART:20200709T233000Z
DTEND:20200710T010000Z
X-MICROSOFT-CDO-ALLDAYEVENT:FALSE
SUMMARY:Executive Committee
DESCRIPTION:Executive Committee Meeting
X-ALT-DESC;FMTTYPE=text/html:Executive Committee Meeting
LOCATION:Poway Chamber Office
UID:e.530.16037
SEQUENCE:3
DTSTAMP:20260420T182153Z
URL:https://business.poway.com/events/details/executive-committee-07-09-2020-16037
END:VEVENT

END:VCALENDAR
