BEGIN:VCALENDAR
VERSION:2.0
PRODID:-//ChamberMaster//Event Calendar 2.0//EN
METHOD:PUBLISH
X-PUBLISHED-TTL:P3D
REFRESH-INTERVAL:P3D
CALSCALE:GREGORIAN
BEGIN:VEVENT
DTSTART;VALUE=DATE:20220318
DTEND;VALUE=DATE:20220319
TRANSP:TRANSPARENT
X-MICROSOFT-CDO-ALLDAYEVENT:TRUE
SUMMARY:ETCN Business & Community Forum
DESCRIPTION:While the past two years have created a variety of challenges and issues no one could\n\nhave anticipated\, now more than ever\, a collaboration between our adult schools and our great business and community partners is needed to assess where we are and what we\n\nneed to do in order to develop a successful and vibrant workforce in our region. \n\nFor more information\, contact Jennifer Prado at Jprado@powayusd.com
X-ALT-DESC;FMTTYPE=text/html:While the past two years have created a variety of challenges and issues no one could<br />\nhave anticipated\, now more than ever\, a collaboration between our adult schools and our great business and community partners is needed to assess where we are and what we<br />\nneed to do in order to develop a successful and vibrant workforce in our region.&nbsp\;<br />\nFor more information\, contact Jennifer Prado at Jprado@powayusd.com
LOCATION:https://bit.ly/3gOfc17 Password 366098
UID:e.530.20560
SEQUENCE:3
DTSTAMP:20260420T014542Z
URL:https://business.poway.com/events/details/etcn-business-community-forum-20560
END:VEVENT

END:VCALENDAR
