BEGIN:VCALENDAR
VERSION:2.0
PRODID:-//ChamberMaster//Event Calendar 2.0//EN
METHOD:PUBLISH
X-PUBLISHED-TTL:P3D
REFRESH-INTERVAL:P3D
CALSCALE:GREGORIAN
BEGIN:VEVENT
DTSTART;VALUE=DATE:20201017
DTEND;VALUE=DATE:20201019
TRANSP:TRANSPARENT
X-MICROSOFT-CDO-ALLDAYEVENT:TRUE
SUMMARY:Escondido Storage Unit Auction
DESCRIPTION:Escondido Storage Unit Auction\n\n \n\nShort Notice - Unfiltered\, Packed Unit - Items to the ceiling! 90% of contents not photoed and unknown - Buried Treasure - All Contents\, one money - Art\, Collectibles\, Gaming Computers\, Housewares etc. \n\n \n\nhttps://northcountyauctions.com
X-ALT-DESC;FMTTYPE=text/html:<div style="color: rgb(34\, 34\, 34)\; font-family: Arial\, Helvetica\, sans-serif\; font-size: small\;">Escondido Storage Unit Auction</div>\n\n<div style="color: rgb(34\, 34\, 34)\; font-family: Arial\, Helvetica\, sans-serif\; font-size: small\;">&nbsp\;</div>\n\n<div style="color: rgb(34\, 34\, 34)\; font-family: Arial\, Helvetica\, sans-serif\; font-size: small\;"><span style="color: rgb(0\, 0\, 0)\; font-size: 13px\; background-color: rgb(251\, 251\, 251)\;">Short Notice - Unfiltered\, Packed Unit - Items to the ceiling! 90% of contents not photoed and unknown - Buried Treasure - All Contents\, one money - Art\, Collectibles\, Gaming Computers\, Housewares</span>&nbsp\;etc.&nbsp\;</div>\n\n<div style="color: rgb(34\, 34\, 34)\; font-family: Arial\, Helvetica\, sans-serif\; font-size: small\;">&nbsp\;</div>\n\n<div style="color: rgb(34\, 34\, 34)\; font-family: Arial\, Helvetica\, sans-serif\; font-size: small\;"><a data-saferedirecturl="https://www.google.com/url?q=https://northcountyauctions.com&amp\;source=gmail&amp\;ust=1602956107282000&amp\;usg=AFQjCNGKJpG1rjp-VwbhzYbZm09UIlcrRg" href="https://northcountyauctions.com/" style="color: rgb(17\, 85\, 204)\;" target="_blank">https://northcountyauctions.<wbr />com</a></div>\n
LOCATION:
UID:e.530.17448
SEQUENCE:3
DTSTAMP:20260420T122837Z
URL:https://business.poway.com/events/details/escondido-storage-unit-auction-17448
END:VEVENT

END:VCALENDAR
