BEGIN:VCALENDAR
VERSION:2.0
PRODID:-//ChamberMaster//Event Calendar 2.0//EN
METHOD:PUBLISH
X-PUBLISHED-TTL:P3D
REFRESH-INTERVAL:P3D
CALSCALE:GREGORIAN
BEGIN:VEVENT
DTSTART:20210127T180000Z
DTEND:20210127T193000Z
X-MICROSOFT-CDO-ALLDAYEVENT:FALSE
SUMMARY:Education Webinar: Vaping/Smoke Free
DESCRIPTION:Title: Vaping/Smoke-Free "Where are we\, is it safer? How to protect yourself and others"\n\n \n\nDescription: Vaping is referred to as an epidemic. Initially billed as a "safer" alternative to smoking traditional cigarettes\, it has emerged as a looming public health crisis. Particularly impacted are youth\, who are adopting the habit at alarming rates. As part of our January "Focus on Wellness" month\, we would like to invite you to a presentation on vaping and the importance of going vape and smoke free. We'll also hear about efforts being made in Poway to make public spaces such as restaurant patios smoke free. Join local medical experts to hear the facts about vaping\, how to protect yourself and your kids\, and resources for those looking to quit tobacco in the new year.  \n\n \n\nDate: Jan 27\, 2021\n\n \n\nTime: 10-11:30am
X-ALT-DESC;FMTTYPE=text/html:<strong><span style="color:#1f497d\;"><span style="font-family:calibri\,sans-serif\;"><span style="font-size:11pt\;">Title:</span></span></span></strong><span style="color:#1f497d\;"><span style="font-family:calibri\,sans-serif\;"><span style="font-size:11pt\;">&nbsp\;Vaping/Smoke-Free &ldquo\;Where are we\, is it safer? How to protect yourself and others&rdquo\;</span></span></span><br />\n&nbsp\;<br />\n<strong><span style="color:#1f497d\;"><span style="font-family:calibri\,sans-serif\;"><span style="font-size:11pt\;">Description:</span></span></span></strong><span style="color:#1f497d\;"><span style="font-family:calibri\,sans-serif\;"><span style="font-size:11pt\;">&nbsp\;Vaping is referred to as an epidemic. Initially billed as a &ldquo\;safer&rdquo\; alternative to smoking traditional cigarettes\, it has emerged as a looming public health crisis. Particularly impacted are youth\, who are adopting the habit at alarming rates. As part of our January &ldquo\;Focus on Wellness&rdquo\; month\, we would like to invite you to a presentation on vaping and the importance of going vape and smoke free. We&rsquo\;ll also hear about efforts being made in Poway to make public spaces such as restaurant patios smoke free. Join local medical experts to hear the facts about vaping\, how to protect yourself and your kids\, and resources for those looking to quit tobacco in the new year.&nbsp\;&nbsp\;</span></span></span><br />\n&nbsp\;<br />\n<strong><span style="color:#1f497d\;"><span style="font-family:calibri\,sans-serif\;"><span style="font-size:11pt\;">Date:</span></span></span></strong><span style="color:#1f497d\;"><span style="font-family:calibri\,sans-serif\;"><span style="font-size:11pt\;">&nbsp\;Jan 27\, 2021</span></span></span><br />\n&nbsp\;<br />\n<strong><span style="color:#1f497d\;"><span style="font-family:calibri\,sans-serif\;"><span style="font-size:11pt\;">Time:</span></span></span></strong><span style="color:#1f497d\;"><span style="font-family:calibri\,sans-serif\;"><span style="font-size:11pt\;">&nbsp\;10-11:30am</span></span></span>
LOCATION:View the recorded presentation here: https://youtu.be/xDZn7UfS_5U Links mentioned in this video: State of Tobacco Report 2021 https://www.lung.org/research/sotc https://www.surveymonkey.com/r/X683QX3 https://www.nytimes.com/2020/09/04/health/covid-vaping-smoking.html Local contacts: Loralee.Olejnik@lung.org\, Pierra.Moise@lung.org
UID:e.530.17764
SEQUENCE:3
DTSTAMP:20260420T080840Z
URL:https://business.poway.com/events/details/education-webinar-vaping-smoke-free-17764
END:VEVENT

END:VCALENDAR
