BEGIN:VCALENDAR
VERSION:2.0
PRODID:-//ChamberMaster//Event Calendar 2.0//EN
METHOD:PUBLISH
X-PUBLISHED-TTL:P3D
REFRESH-INTERVAL:P3D
CALSCALE:GREGORIAN
BEGIN:VEVENT
DTSTART:20210420T180000Z
DTEND:20210420T190000Z
X-MICROSOFT-CDO-ALLDAYEVENT:FALSE
SUMMARY:Education Webinar: Protect your data. Protect your business: Cybersecurity Essentials
DESCRIPTION:Title: Protect your data. Protect your business: Cybersecurity Essentials\n\n\n\nDescription:  Everyone knows that cybersecurity is serious business. But many small business owners still wonder "What do I have that hackers want?" In this webinar\, veteran cybersecurity trainer and course developer Dave Howard will share tips and resources that will help you protect your business\, your data and your people from the cyber dangers including\;\n\n\n\n       Common threats like social engineering\, phishing and malware\n\n       Defensive tools like anti-virus\, multi-factor authentication\, backup solutions and cyber insurance\n\n       The importance of security policies\, acceptable use policies and incident response plans.\n\n       Additional training resources and solution providers.
X-ALT-DESC;FMTTYPE=text/html:<strong>Title:</strong>&nbsp\;Protect your data. Protect your business: Cybersecurity Essentials<br />\n<br />\n<strong>Description:</strong>&nbsp\; Everyone knows that cybersecurity is serious business. But many small business owners still wonder &ldquo\;What do I have that hackers want?&rdquo\; In this webinar\, veteran cybersecurity trainer and course developer Dave Howard will share tips and resources that will help you protect your business\, your data and your people from the cyber dangers including\;<br />\n<br />\n&bull\;&nbsp\;&nbsp\;&nbsp\;&nbsp\;&nbsp\; Common threats like social engineering\, phishing and malware<br />\n&bull\;&nbsp\;&nbsp\;&nbsp\;&nbsp\;&nbsp\; Defensive tools like anti-virus\, multi-factor authentication\, backup solutions and cyber insurance<br />\n&bull\;&nbsp\;&nbsp\;&nbsp\;&nbsp\;&nbsp\; The importance of security policies\, acceptable use policies and incident response plans.<br />\n&bull\;&nbsp\;&nbsp\;&nbsp\;&nbsp\;&nbsp\; Additional training resources and solution providers.<br />\n<br />\n&nbsp\;
LOCATION:Use this link to access a recording of the webinar: https://youtu.be/RNJ9xXV-ASo
UID:e.530.18450
SEQUENCE:3
DTSTAMP:20260420T023432Z
URL:https://business.poway.com/events/details/education-webinar-protect-your-data-protect-your-business-cybersecurity-essentials-18450
END:VEVENT

END:VCALENDAR
