BEGIN:VCALENDAR
VERSION:2.0
PRODID:-//ChamberMaster//Event Calendar 2.0//EN
METHOD:PUBLISH
X-PUBLISHED-TTL:P3D
REFRESH-INTERVAL:P3D
CALSCALE:GREGORIAN
BEGIN:VEVENT
DTSTART:20210506T170000Z
DTEND:20210506T180000Z
X-MICROSOFT-CDO-ALLDAYEVENT:FALSE
SUMMARY:Education Webinar: Hosting a PUSD Summer Intern
DESCRIPTION:Chamber of Commerce members demonstrate their commitment to helping strengthen prosperity for our business community\, but what can they do to ensure that the talented students in Poway Unified grow roots in it? A representative from PUSD's Career Technical Education (CTE) department will discuss the process and plans to place unpaid interns at up to five local businesses.
X-ALT-DESC;FMTTYPE=text/html:<span style="caret-color: rgb(34\, 34\, 34)\; color: rgb(34\, 34\, 34)\; font-family: Calibri\, sans-serif\; font-size: 14.666666984558105px\;">Chamber of Commerce members demonstrate their commitment to helping strengthen prosperity for our business community\, but what can they do to ensure that the talented students in Poway Unified grow roots in it? A representative from PUSD&rsquo\;s Career Technical Education (CTE) department will discuss the process and plans to place unpaid interns at up to five local businesses.</span>
LOCATION:Click here to view recording: https://youtu.be/sdWHLKI-h7Q
UID:e.530.18726
SEQUENCE:3
DTSTAMP:20260420T010100Z
URL:https://business.poway.com/events/details/education-webinar-hosting-a-pusd-summer-intern-18726
END:VEVENT

END:VCALENDAR
