BEGIN:VCALENDAR
VERSION:2.0
PRODID:-//ChamberMaster//Event Calendar 2.0//EN
METHOD:PUBLISH
X-PUBLISHED-TTL:P3D
REFRESH-INTERVAL:P3D
CALSCALE:GREGORIAN
BEGIN:VEVENT
DTSTART:20201209T180000Z
DTEND:20201209T193000Z
X-MICROSOFT-CDO-ALLDAYEVENT:FALSE
SUMMARY:Education Webinar: Helping Business Owners Through Corporate Compliance & Legal Challenges
DESCRIPTION:VIEW THE VIDEO RECORDING HERE: https://youtu.be/SMCJjJGc6xY\n\n\n\nDate: Dec 9\, 2020\n\nTime: 10-11:30am\n\nTitle:  Helping small business owners through corporate compliance and legal challenges\n\nDescription: Join us in this interactive webinar with attorney Chris Villasenor\, designed to help business owners facing possible litigation issues. Ask yourself:\n\n1.       Is my company set-up and operating with the proper protections and compliance to avoid personal liability?\n\n2.       What are my leasing rights if facing default and early termination?\n\n3.       Bankruptcy may not protect you in many scenarios? Is it a final alternative? Do I have other options?\n\n4.       My business partner wants out. How do I avoid legal pitfalls?
X-ALT-DESC;FMTTYPE=text/html:<strong><span style="color:#1f497d\;"><span style="font-family:calibri\,sans-serif\;"><span style="font-size:11pt\;">VIEW THE VIDEO RECORDING HERE:&nbsp\;</span></span></span></strong><a href="https://youtu.be/SMCJjJGc6xY">https://youtu.be/SMCJjJGc6xY</a><br />\n<br />\n<strong><span style="color:#1f497d\;"><span style="font-family:calibri\,sans-serif\;"><span style="font-size:11pt\;">Date:</span></span></span></strong><span style="color:#1f497d\;"><span style="font-family:calibri\,sans-serif\;"><span style="font-size:11pt\;">&nbsp\;Dec 9\, 2020</span></span></span><br />\n<strong><span style="color:#1f497d\;"><span style="font-family:calibri\,sans-serif\;"><span style="font-size:11pt\;">Time:</span></span></span></strong><span style="color:#1f497d\;"><span style="font-family:calibri\,sans-serif\;"><span style="font-size:11pt\;">&nbsp\;10-11:30am</span></span></span><br />\n<strong><span style="color:#1f497d\;"><span style="font-family:calibri\,sans-serif\;"><span style="font-size:11pt\;">Title:</span></span></span></strong><span style="color:#1f497d\;"><span style="font-family:calibri\,sans-serif\;"><span style="font-size:11pt\;">&nbsp\; Helping small business owners through corporate compliance and legal challenges</span></span></span><br />\n<strong><span style="color:#1f497d\;"><span style="font-family:calibri\,sans-serif\;"><span style="font-size:11pt\;">Description:&nbsp\;</span></span></span></strong><span style="color:#1f497d\;"><span style="font-family:calibri\,sans-serif\;"><span style="font-size:11pt\;">Join us in this interactive webinar with attorney Chris Villasenor\, designed to help business owners facing possible litigation issues. Ask yourself:</span></span></span><br />\n<span style="color:#1f497d\;"><span style="font-family:calibri\,sans-serif\;"><span style="font-size:11pt\;">1.&nbsp\;&nbsp\;&nbsp\;&nbsp\;&nbsp\;&nbsp\;&nbsp\;</span></span></span><span style="color:#1f497d\;"><span style="font-family:calibri\,sans-serif\;"><span style="font-size:11pt\;">Is my company set-up and operating with the proper protections and compliance to avoid personal liability?</span></span></span><br />\n<span style="color:#1f497d\;"><span style="font-family:calibri\,sans-serif\;"><span style="font-size:11pt\;">2.&nbsp\;&nbsp\;&nbsp\;&nbsp\;&nbsp\;&nbsp\;&nbsp\;</span></span></span><span style="color:#1f497d\;"><span style="font-family:calibri\,sans-serif\;"><span style="font-size:11pt\;">What are my leasing rights if facing default and early termination?</span></span></span><br />\n<span style="color:#1f497d\;"><span style="font-family:calibri\,sans-serif\;"><span style="font-size:11pt\;">3.&nbsp\;&nbsp\;&nbsp\;&nbsp\;&nbsp\;&nbsp\;&nbsp\;</span></span></span><span style="color:#1f497d\;"><span style="font-family:calibri\,sans-serif\;"><span style="font-size:11pt\;">Bankruptcy may not protect you in many scenarios? Is it a final alternative? Do I have other options?</span></span></span><br />\n<span style="color:#1f497d\;"><span style="font-family:calibri\,sans-serif\;"><span style="font-size:11pt\;">4.&nbsp\;&nbsp\;&nbsp\;&nbsp\;&nbsp\;&nbsp\;&nbsp\;</span></span></span><span style="color:#1f497d\;"><span style="font-family:calibri\,sans-serif\;"><span style="font-size:11pt\;">My business partner wants out. How do I avoid legal pitfalls?</span></span></span>
LOCATION:Virtual webinar https://powayusd.zoom.us/j/91063884621?pwd=NmhydWhpejE1b3pwdHZpSytPNTlkdz09
UID:e.530.17751
SEQUENCE:3
DTSTAMP:20260420T111433Z
URL:https://business.poway.com/events/details/education-webinar-helping-business-owners-through-corporate-compliance-legal-challenges-17751
END:VEVENT

END:VCALENDAR
