BEGIN:VCALENDAR
VERSION:2.0
PRODID:-//ChamberMaster//Event Calendar 2.0//EN
METHOD:PUBLISH
X-PUBLISHED-TTL:P3D
REFRESH-INTERVAL:P3D
CALSCALE:GREGORIAN
BEGIN:VEVENT
DTSTART:20210609T190000Z
DTEND:20210609T200000Z
X-MICROSOFT-CDO-ALLDAYEVENT:FALSE
SUMMARY:Education Webinar: CalSavers - The New Mandatory CA Employer Retirement Law
DESCRIPTION:CalSavers: The New Mandatory California Employer Retirement Law\n\nWhile employers are in the process of recovering from the pandemic\, the last thing a business owner needs is to be caught off guard by a California mandate. \n\nCalSavers is a mandatory retirement law that was passed in 2016 with a deadline of last September 2020 for companies with 100 or more employees and is now in the process of being implemented for companies with 50 to 99 employees with a deadline of June 30th of this year.\n\nJoin us to learn the specifics of the CalSavers program and what it means for your business to be compliant.
X-ALT-DESC;FMTTYPE=text/html:<span style="font-family:times new roman\,serif\;"><span style="font-size:12pt\;"><strong>CalSavers: The New Mandatory California Employer Retirement Law</strong><br />\nWhile employers are in the process of recovering from the pandemic\, the last thing a business owner needs is to be caught off guard by a California mandate.&nbsp\;</span></span><br />\n<span style="font-family:times new roman\,serif\;"><span style="font-size:12pt\;">CalSavers is a mandatory retirement law that was passed in 2016 with a deadline of last September 2020 for companies with 100 or more employees and is now in the process of being implemented for companies with 50 to 99 employees with a deadline of June 30<sup>th</sup>&nbsp\;of this year.</span></span><br />\n<span style="font-family:times new roman\,serif\;"><span style="font-size:12pt\;">Join us to learn the specifics of the CalSavers program and what it means for your business to be compliant.</span></span>
LOCATION:View recorded video here: https://youtu.be/WyzaPRRo7fM
UID:e.530.19072
SEQUENCE:3
DTSTAMP:20260420T010650Z
URL:https://business.poway.com/events/details/education-webinar-calsavers-the-new-mandatory-ca-employer-retirement-law-19072
END:VEVENT

END:VCALENDAR
