BEGIN:VCALENDAR
VERSION:2.0
PRODID:-//ChamberMaster//Event Calendar 2.0//EN
METHOD:PUBLISH
X-PUBLISHED-TTL:P3D
REFRESH-INTERVAL:P3D
CALSCALE:GREGORIAN
BEGIN:VEVENT
DTSTART;VALUE=DATE:20200108
DTEND;VALUE=DATE:20200109
TRANSP:TRANSPARENT
X-MICROSOFT-CDO-ALLDAYEVENT:TRUE
SUMMARY:Education Committee
DESCRIPTION:
X-ALT-DESC;FMTTYPE=text/html:
LOCATION:Mathnasium 13265 Midland Rd. Ste 160-170 Poway CA 92064
UID:e.530.16466
SEQUENCE:3
DTSTAMP:20260421T030440Z
URL:https://business.poway.com/events/details/education-committee-16466
END:VEVENT

END:VCALENDAR
