BEGIN:VCALENDAR
VERSION:2.0
PRODID:-//ChamberMaster//Event Calendar 2.0//EN
METHOD:PUBLISH
X-PUBLISHED-TTL:P3D
REFRESH-INTERVAL:P3D
CALSCALE:GREGORIAN
BEGIN:VEVENT
DTSTART:20201202T170000Z
DTEND:20201202T180000Z
X-MICROSOFT-CDO-ALLDAYEVENT:FALSE
SUMMARY:Education Committee
DESCRIPTION:This committee coordinates exchange between the Poway Unified School District and area businesses to identify needs and provide relevant training for prospective employees.
X-ALT-DESC;FMTTYPE=text/html:<span style="font-size:14px\;"><span style="font-family:arial\;"><span style="color: rgb(17\, 17\, 17)\; background-color: rgb(255\, 255\, 255)\;">This committee coordinates exchange between the Poway Unified School District and area businesses to identify needs and provide relevant training for prospective employees.</span></span></span>
LOCATION:Join Zoom Meeting https://powayusd.zoom.us/j/98698175931?pwd=N2hiWkNPRStDQ1pIY3JSOURKbGxvdz09 Meeting ID: 986 9817 5931 Passcode: 001949 One tap mobile +16699009128\,\,98698175931#\,\,\,\,\,\,0#\,\,001949# US (San Jose) +13462487799\,\,98698175931#\,\,\,\,\,\,0#\,\,001949# US (Houston) Dial by your location +1 669 900 9128 US (San Jose) +1 346 248 7799 US (Houston) +1 253 215 8782 US (Tacoma) +1 301 715 8592 US (Washington D.C) +1 312 626 6799 US (Chicago) +1 646 558 8656 US (New York) Meeting ID: 986 9817 5931 Passcode: 001949 Find your local number: https://powayusd.zoom.us/u/aYjyvOKjN
UID:e.530.15474
SEQUENCE:3
DTSTAMP:20260420T093232Z
URL:https://business.poway.com/events/details/education-committee-12-02-2020-15474
END:VEVENT

END:VCALENDAR
