BEGIN:VCALENDAR
VERSION:2.0
PRODID:-//ChamberMaster//Event Calendar 2.0//EN
METHOD:PUBLISH
X-PUBLISHED-TTL:P3D
REFRESH-INTERVAL:P3D
CALSCALE:GREGORIAN
BEGIN:VEVENT
DTSTART:20200902T160000Z
DTEND:20200902T170000Z
X-MICROSOFT-CDO-ALLDAYEVENT:FALSE
SUMMARY:Education Committee
DESCRIPTION:This committee coordinates exchange between the Poway Unified School District and area businesses to identify needs and provide relevant training for prospective employees.
X-ALT-DESC;FMTTYPE=text/html:<span style="font-size:14px\;"><span style="font-family:arial\;"><span style="color: rgb(17\, 17\, 17)\; background-color: rgb(255\, 255\, 255)\;">This committee coordinates exchange between the Poway Unified School District and area businesses to identify needs and provide relevant training for prospective employees.</span></span></span>
LOCATION:This meeting will be virtual. Join Zoom Meeting https://powayusd.zoom.us/j/9294769240?pwd=NWtJbTJPSVZBOEYzb09jYk5NUFhjdz09 Meeting ID: 929 476 9240 Passcode: 982712
UID:e.530.15471
SEQUENCE:3
DTSTAMP:20260420T134829Z
URL:https://business.poway.com/events/details/education-committee-09-02-2020-15471
END:VEVENT

END:VCALENDAR
