BEGIN:VCALENDAR
VERSION:2.0
PRODID:-//ChamberMaster//Event Calendar 2.0//EN
METHOD:PUBLISH
X-PUBLISHED-TTL:P3D
REFRESH-INTERVAL:P3D
CALSCALE:GREGORIAN
BEGIN:VEVENT
DTSTART:20210505T160000Z
DTEND:20210505T170000Z
X-MICROSOFT-CDO-ALLDAYEVENT:FALSE
SUMMARY:Education Committee
DESCRIPTION:As business members and education leaders\, this committee strives to foster a diverse platform of educational & training opportunities that are relevant to members and business owners.
X-ALT-DESC;FMTTYPE=text/html:<span style="font-family:arial\;"><span style="color: rgb(17\, 17\, 17)\; background-color: rgb(255\, 255\, 255)\;">As business members and education leaders\, this committee s</span></span>trives to foster a diverse platform of educational &amp\; training opportunities that are relevant to members and business owners.
LOCATION:Location TBD
UID:e.530.15479
SEQUENCE:3
DTSTAMP:20260420T023549Z
URL:https://business.poway.com/events/details/education-committee-05-05-2021-15479
END:VEVENT

END:VCALENDAR
