BEGIN:VCALENDAR
VERSION:2.0
PRODID:-//ChamberMaster//Event Calendar 2.0//EN
METHOD:PUBLISH
X-PUBLISHED-TTL:P3D
REFRESH-INTERVAL:P3D
CALSCALE:GREGORIAN
BEGIN:VEVENT
DTSTART:20210407T160000Z
DTEND:20210407T170000Z
X-MICROSOFT-CDO-ALLDAYEVENT:FALSE
SUMMARY:Education Committee
DESCRIPTION:This committee coordinates exchange between the Poway Unified School District and area businesses to identify needs and provide relevant training for prospective employees.
X-ALT-DESC;FMTTYPE=text/html:<span style="font-size:14px\;"><span style="font-family:arial\;"><span style="color: rgb(17\, 17\, 17)\; background-color: rgb(255\, 255\, 255)\;">This committee coordinates exchange between the Poway Unified School District and area businesses to identify needs and provide relevant training for prospective employees.</span></span></span>
LOCATION:This Committee meeting is virtual. Please email aimee@poway.com if you would like to attend and did not receive the link.
UID:e.530.15478
SEQUENCE:3
DTSTAMP:20260420T023538Z
URL:https://business.poway.com/events/details/education-committee-04-07-2021-15478
END:VEVENT

END:VCALENDAR
