BEGIN:VCALENDAR
VERSION:2.0
PRODID:-//ChamberMaster//Event Calendar 2.0//EN
METHOD:PUBLISH
X-PUBLISHED-TTL:P3D
REFRESH-INTERVAL:P3D
CALSCALE:GREGORIAN
BEGIN:VEVENT
DTSTART:20220302T170000Z
DTEND:20220302T180000Z
X-MICROSOFT-CDO-ALLDAYEVENT:FALSE
SUMMARY:Education Committee
DESCRIPTION:The Education Committee connects the business community\, K-12\, Community Colleges and University leaders to share resources and knowledge to better educate our chamber members. Strive to foster a diverse platform of educational & training opportunities that are relevant to members and business owners.\n\n\n\nAs business members and education leaders\, this committee strives to foster a diverse platform of educational & training opportunities that are relevant to members and business owners.\n\n\n\nView the EDUCATION page to learn more about how the Chamber supports education in our community\, and to access the past Education Webinars.
X-ALT-DESC;FMTTYPE=text/html:The Education Committee connects the business community\, K-12\, Community Colleges and University leaders to share resources and knowledge to better educate our chamber members. Strive to foster a diverse platform of educational &amp\; training opportunities that are relevant to members and business owners.<br />\n<br />\nAs business members and education leaders\, this committee strives to foster a diverse platform of educational &amp\; training opportunities that are relevant to members and business owners.<br />\n<br />\nView the&nbsp\;<strong><a href="http://www.poway.com/education/">EDUCATION</a></strong>&nbsp\;page to learn more about how the Chamber supports education in our community\, and to access the past Education Webinars.
LOCATION:Location TBD
UID:e.530.15489
SEQUENCE:3
DTSTAMP:20260420T010300Z
URL:https://business.poway.com/events/details/education-committee-03-02-2022-15489
END:VEVENT

END:VCALENDAR
