BEGIN:VCALENDAR
VERSION:2.0
PRODID:-//ChamberMaster//Event Calendar 2.0//EN
METHOD:PUBLISH
X-PUBLISHED-TTL:P3D
REFRESH-INTERVAL:P3D
CALSCALE:GREGORIAN
BEGIN:VEVENT
DTSTART;VALUE=DATE:20200928
DTEND;VALUE=DATE:20200929
TRANSP:TRANSPARENT
X-MICROSOFT-CDO-ALLDAYEVENT:TRUE
SUMMARY:Drive Out Hunger Golf Tournament
DESCRIPTION:Join the North County Food Bank for our annual Drive Out Hunger Golf Classic on Monday\, September 28\, 2020. The tournament supports our vital hunger-relief programs benefiting North County families including our COVID-19 relief efforts. The tournament will take place at the Shadowridge Golf Club located in the beautiful rural foothills of North County.\n\n\n\nhttps://northcountyfoodbank.org/golf/\n\n\n\nCheck in: 10:30am\n\nShotgun scramble: 12 noon
X-ALT-DESC;FMTTYPE=text/html:<span style="color: rgb(34\, 34\, 34)\; font-family: Arial\, Helvetica\, sans-serif\; font-size: small\; background-color: rgb(255\, 255\, 255)\;">Join the North County Food Bank for our annual Drive Out Hunger Golf Classic on Monday\, September 28\, 2020. The tournament supports our vital hunger-relief programs benefiting North County families including our COVID-19 relief efforts. The tournament will take place at the Shadowridge Golf Club located in the beautiful rural foothills of North County.</span><br />\n<br />\n<a href="https://northcountyfoodbank.org/golf/">https://northcountyfoodbank.org/golf/</a><br />\n<br style="color: rgb(34\, 34\, 34)\; font-family: Arial\, Helvetica\, sans-serif\; font-size: small\; background-color: rgb(255\, 255\, 255)\;" />\n<span style="color: rgb(34\, 34\, 34)\; font-family: Arial\, Helvetica\, sans-serif\; font-size: small\; background-color: rgb(255\, 255\, 255)\;">Check in: 10:30am</span><br style="color: rgb(34\, 34\, 34)\; font-family: Arial\, Helvetica\, sans-serif\; font-size: small\; background-color: rgb(255\, 255\, 255)\;" />\n<span style="color: rgb(34\, 34\, 34)\; font-family: Arial\, Helvetica\, sans-serif\; font-size: small\; background-color: rgb(255\, 255\, 255)\;">Shotgun scramble: 12 noon</span>
LOCATION:Shadowridge Golf Club
UID:e.530.17098
SEQUENCE:3
DTSTAMP:20260420T151803Z
URL:https://business.poway.com/events/details/drive-out-hunger-golf-tournament-17098
END:VEVENT

END:VCALENDAR
