BEGIN:VCALENDAR
VERSION:2.0
PRODID:-//ChamberMaster//Event Calendar 2.0//EN
METHOD:PUBLISH
X-PUBLISHED-TTL:P3D
REFRESH-INTERVAL:P3D
CALSCALE:GREGORIAN
BEGIN:VEVENT
DTSTART:20201124T150000Z
DTEND:20201124T163000Z
X-MICROSOFT-CDO-ALLDAYEVENT:FALSE
SUMMARY:Connections Group
DESCRIPTION:Connections Group - join us in person or virtually.\n\n\n\nJoin Zoom Meeting\n\nhttps://us02web.zoom.us/j/83382684629?pwd=dWdlZStZSG5yNzQyVi92dXBQd2p1dz09\n\n\n\nMeeting ID: 833 8268 4629\n\nPasscode: 294735\n\nOne tap mobile\n\n+16699006833\,\,83382684629#\,\,\,\,\,\,0#\,\,294735# US (San Jose)\n\n+13462487799\,\,83382684629#\,\,\,\,\,\,0#\,\,294735# US (Houston)\n\n\n\nDial by your location\n\n        +1 669 900 6833 US (San Jose)\n\n        +1 346 248 7799 US (Houston)\n\n        +1 253 215 8782 US (Tacoma)\n\n        +1 312 626 6799 US (Chicago)\n\n        +1 929 205 6099 US (New York)\n\n        +1 301 715 8592 US (Washington D.C)\n\nMeeting ID: 833 8268 4629\n\nPasscode: 294735\n\nFind your local number: https://us02web.zoom.us/u/kdWeNLO9wy
X-ALT-DESC;FMTTYPE=text/html:Connections Group - join us in person or virtually.<br />\n<br />\n<span style="color: rgb(34\, 34\, 34)\; font-family: Arial\, Helvetica\, sans-serif\; font-size: small\;">Join Zoom Meeting</span><br style="color: rgb(34\, 34\, 34)\; font-family: Arial\, Helvetica\, sans-serif\; font-size: small\;" />\n<a data-saferedirecturl="https://www.google.com/url?q=https://us02web.zoom.us/j/83382684629?pwd%3DdWdlZStZSG5yNzQyVi92dXBQd2p1dz09&amp\;source=gmail&amp\;ust=1605721959249000&amp\;usg=AFQjCNEt28VBpSFLV0cslEIUyr4doCtN6w" href="https://us02web.zoom.us/j/83382684629?pwd=dWdlZStZSG5yNzQyVi92dXBQd2p1dz09" style="color: rgb(17\, 85\, 204)\; font-family: Arial\, Helvetica\, sans-serif\; font-size: small\;" target="_blank">https://us02web.zoom.us/j/<wbr />83382684629?pwd=<wbr />dWdlZStZSG5yNzQyVi92dXBQd2p1dz<wbr />09</a><br style="color: rgb(34\, 34\, 34)\; font-family: Arial\, Helvetica\, sans-serif\; font-size: small\;" />\n<br style="color: rgb(34\, 34\, 34)\; font-family: Arial\, Helvetica\, sans-serif\; font-size: small\;" />\n<span style="color: rgb(34\, 34\, 34)\; font-family: Arial\, Helvetica\, sans-serif\; font-size: small\;">Meeting ID: 833 8268 4629</span><br style="color: rgb(34\, 34\, 34)\; font-family: Arial\, Helvetica\, sans-serif\; font-size: small\;" />\n<span style="color: rgb(34\, 34\, 34)\; font-family: Arial\, Helvetica\, sans-serif\; font-size: small\;">Passcode: 294735</span><br style="color: rgb(34\, 34\, 34)\; font-family: Arial\, Helvetica\, sans-serif\; font-size: small\;" />\n<span style="color: rgb(34\, 34\, 34)\; font-family: Arial\, Helvetica\, sans-serif\; font-size: small\;">One tap mobile</span><br style="color: rgb(34\, 34\, 34)\; font-family: Arial\, Helvetica\, sans-serif\; font-size: small\;" />\n<span style="color: rgb(34\, 34\, 34)\; font-family: Arial\, Helvetica\, sans-serif\; font-size: small\;">+16699006833\,\,83382684629#\,\,\,\,</span><wbr style="color: rgb(34\, 34\, 34)\; font-family: Arial\, Helvetica\, sans-serif\; font-size: small\;" /><span style="color: rgb(34\, 34\, 34)\; font-family: Arial\, Helvetica\, sans-serif\; font-size: small\;">\,\,0#\,\,294735# US (San Jose)</span><br style="color: rgb(34\, 34\, 34)\; font-family: Arial\, Helvetica\, sans-serif\; font-size: small\;" />\n<span style="color: rgb(34\, 34\, 34)\; font-family: Arial\, Helvetica\, sans-serif\; font-size: small\;">+13462487799\,\,83382684629#\,\,\,\,</span><wbr style="color: rgb(34\, 34\, 34)\; font-family: Arial\, Helvetica\, sans-serif\; font-size: small\;" /><span style="color: rgb(34\, 34\, 34)\; font-family: Arial\, Helvetica\, sans-serif\; font-size: small\;">\,\,0#\,\,294735# US (Houston)</span><br style="color: rgb(34\, 34\, 34)\; font-family: Arial\, Helvetica\, sans-serif\; font-size: small\;" />\n<br style="color: rgb(34\, 34\, 34)\; font-family: Arial\, Helvetica\, sans-serif\; font-size: small\;" />\n<span style="color: rgb(34\, 34\, 34)\; font-family: Arial\, Helvetica\, sans-serif\; font-size: small\;">Dial by your location</span><br style="color: rgb(34\, 34\, 34)\; font-family: Arial\, Helvetica\, sans-serif\; font-size: small\;" />\n<span style="color: rgb(34\, 34\, 34)\; font-family: Arial\, Helvetica\, sans-serif\; font-size: small\;">&nbsp\; &nbsp\; &nbsp\; &nbsp\; +1 669 900 6833 US (San Jose)</span><br style="color: rgb(34\, 34\, 34)\; font-family: Arial\, Helvetica\, sans-serif\; font-size: small\;" />\n<span style="color: rgb(34\, 34\, 34)\; font-family: Arial\, Helvetica\, sans-serif\; font-size: small\;">&nbsp\; &nbsp\; &nbsp\; &nbsp\; +1 346 248 7799 US (Houston)</span><br style="color: rgb(34\, 34\, 34)\; font-family: Arial\, Helvetica\, sans-serif\; font-size: small\;" />\n<span style="color: rgb(34\, 34\, 34)\; font-family: Arial\, Helvetica\, sans-serif\; font-size: small\;">&nbsp\; &nbsp\; &nbsp\; &nbsp\; +1 253 215 8782 US (Tacoma)</span><br style="color: rgb(34\, 34\, 34)\; font-family: Arial\, Helvetica\, sans-serif\; font-size: small\;" />\n<span style="color: rgb(34\, 34\, 34)\; font-family: Arial\, Helvetica\, sans-serif\; font-size: small\;">&nbsp\; &nbsp\; &nbsp\; &nbsp\; +1 312 626 6799 US (Chicago)</span><br style="color: rgb(34\, 34\, 34)\; font-family: Arial\, Helvetica\, sans-serif\; font-size: small\;" />\n<span style="color: rgb(34\, 34\, 34)\; font-family: Arial\, Helvetica\, sans-serif\; font-size: small\;">&nbsp\; &nbsp\; &nbsp\; &nbsp\; +1 929 205 6099 US (New York)</span><br style="color: rgb(34\, 34\, 34)\; font-family: Arial\, Helvetica\, sans-serif\; font-size: small\;" />\n<span style="color: rgb(34\, 34\, 34)\; font-family: Arial\, Helvetica\, sans-serif\; font-size: small\;">&nbsp\; &nbsp\; &nbsp\; &nbsp\; +1 301 715 8592 US (Washington D.C)</span><br style="color: rgb(34\, 34\, 34)\; font-family: Arial\, Helvetica\, sans-serif\; font-size: small\;" />\n<span style="color: rgb(34\, 34\, 34)\; font-family: Arial\, Helvetica\, sans-serif\; font-size: small\;">Meeting ID: 833 8268 4629</span><br style="color: rgb(34\, 34\, 34)\; font-family: Arial\, Helvetica\, sans-serif\; font-size: small\;" />\n<span style="color: rgb(34\, 34\, 34)\; font-family: Arial\, Helvetica\, sans-serif\; font-size: small\;">Passcode: 294735</span><br style="color: rgb(34\, 34\, 34)\; font-family: Arial\, Helvetica\, sans-serif\; font-size: small\;" />\n<span style="color: rgb(34\, 34\, 34)\; font-family: Arial\, Helvetica\, sans-serif\; font-size: small\;">Find your local number:&nbsp\;</span><a data-saferedirecturl="https://www.google.com/url?q=https://us02web.zoom.us/u/kdWeNLO9wy&amp\;source=gmail&amp\;ust=1605721959249000&amp\;usg=AFQjCNHB_caFULbOkHSHR8m06u5omN26Yg" href="https://us02web.zoom.us/u/kdWeNLO9wy" style="color: rgb(17\, 85\, 204)\; font-family: Arial\, Helvetica\, sans-serif\; font-size: small\;" target="_blank">https://us02web.zoom.us/u/<wbr />kdWeNLO9wy</a>
LOCATION:Mainstream Bar & Grill 13385 Poway Rd or Zoom https://us02web.zoom.us/j/83382684629?pwd=dWdlZStZSG5yNzQyVi92dXBQd2p1dz09
UID:e.530.10582
SEQUENCE:3
DTSTAMP:20260420T110748Z
URL:https://business.poway.com/events/details/connections-group-11-24-2020-10582
END:VEVENT

END:VCALENDAR
