BEGIN:VCALENDAR
VERSION:2.0
PRODID:-//ChamberMaster//Event Calendar 2.0//EN
METHOD:PUBLISH
X-PUBLISHED-TTL:P3D
REFRESH-INTERVAL:P3D
CALSCALE:GREGORIAN
BEGIN:VEVENT
DTSTART:20200825T140000Z
DTEND:20200825T153000Z
X-MICROSOFT-CDO-ALLDAYEVENT:FALSE
SUMMARY:Connections Group
DESCRIPTION:Connections Group\n\nThis meeting will be held at Mainstream Bar & Grill\, but you may also attend via Zoom!\n\n\n\nZoom link: https://zoom.us/j/9047901231?pwd=Zm54MDByZ0lTUkZNMTFjS3ZJd0VDZz09
X-ALT-DESC;FMTTYPE=text/html:<span style="color: rgb(75\, 85\, 111)\; font-family: omnes-pro\, sans-serif\; font-size: 17px\; letter-spacing: 1px\;">Connections Group</span><br style="color: rgb(75\, 85\, 111)\; font-family: omnes-pro\, sans-serif\; font-size: 17px\; letter-spacing: 1px\;" />\n<span style="color: rgb(75\, 85\, 111)\; font-family: omnes-pro\, sans-serif\; font-size: 17px\; letter-spacing: 1px\;">This meeting will be held at Mainstream Bar &amp\; Grill\, but you may also attend via Zoom!</span><br style="color: rgb(75\, 85\, 111)\; font-family: omnes-pro\, sans-serif\; font-size: 17px\; letter-spacing: 1px\;" />\n<br style="color: rgb(75\, 85\, 111)\; font-family: omnes-pro\, sans-serif\; font-size: 17px\; letter-spacing: 1px\;" />\n<span style="color: rgb(75\, 85\, 111)\; font-family: omnes-pro\, sans-serif\; font-size: 17px\; letter-spacing: 1px\;">Zoom link: <a href="https://zoom.us/j/9047901231?pwd=Zm54MDByZ0lTUkZNMTFjS3ZJd0VDZz09">https://zoom.us/j/9047901231?pwd=Zm54MDByZ0lTUkZNMTFjS3ZJd0VDZz09</a></span>
LOCATION:Mainstream Bar & Grill 13385 Poway Rd\, Poway or https://zoom.us/j/9047901231?pwd=Zm54MDByZ0lTUkZNMTFjS3ZJd0VDZz09
UID:e.530.10579
SEQUENCE:3
DTSTAMP:20260420T151439Z
URL:https://business.poway.com/events/details/connections-group-08-25-2020-10579
END:VEVENT

END:VCALENDAR
