BEGIN:VCALENDAR
VERSION:2.0
PRODID:-//ChamberMaster//Event Calendar 2.0//EN
METHOD:PUBLISH
X-PUBLISHED-TTL:P3D
REFRESH-INTERVAL:P3D
CALSCALE:GREGORIAN
BEGIN:VEVENT
DTSTART:20200728T140000Z
DTEND:20200728T153000Z
X-MICROSOFT-CDO-ALLDAYEVENT:FALSE
SUMMARY:Connections Group
DESCRIPTION:Connections Group will meet at Mainstream Bar & Grill in a reserved outdoor space with plenty of room for social distancing. Please wear a mask. \n\n\n\nIf you prefer\, you may also attend via zoom at the following link: https://zoom.us/j/9047901231?pwd=Zm54MDByZ0lTUkZNMTFjS3ZJd0VDZz09
X-ALT-DESC;FMTTYPE=text/html:Connections Group will meet at Mainstream Bar &amp\; Grill in a reserved outdoor space with plenty of room for social distancing. Please wear a mask.&nbsp\;<br />\n<br />\nIf you prefer\, you may also attend via zoom at the following link:&nbsp\;https://zoom.us/j/9047901231?pwd=Zm54MDByZ0lTUkZNMTFjS3ZJd0VDZz09
LOCATION:Mainstream Bar & Grill 13385 Poway Road or https://zoom.us/j/9047901231?pwd=Zm54MDByZ0lTUkZNMTFjS3ZJd0VDZz09
UID:e.530.10578
SEQUENCE:3
DTSTAMP:20260420T164818Z
URL:https://business.poway.com/events/details/connections-group-07-28-2020-10578
END:VEVENT

END:VCALENDAR
