BEGIN:VCALENDAR
VERSION:2.0
PRODID:-//ChamberMaster//Event Calendar 2.0//EN
METHOD:PUBLISH
X-PUBLISHED-TTL:P3D
REFRESH-INTERVAL:P3D
CALSCALE:GREGORIAN
BEGIN:VEVENT
DTSTART:20220628T140000Z
DTEND:20220628T153000Z
X-MICROSOFT-CDO-ALLDAYEVENT:FALSE
SUMMARY:Connections Group
DESCRIPTION:This week's guest speaker is Ed Franklin with Brilliant Marketing Ideas!  Ed promises to leave you entertained\, inspired\, and motivated so you can become the best version of yourself moving forward.\n\n\n\nConnections Group meets twice a month in-person at Mainstream Bar & Grill. There is a $15 fee\; breakfast included.
X-ALT-DESC;FMTTYPE=text/html:This week&#39\;s guest speaker is Ed Franklin with Brilliant Marketing Ideas!&nbsp\; Ed promises to leave you entertained\, inspired\, and motivated so you can become the best version of yourself moving forward.<br />\n<br />\nConnections Group meets twice a month in-person at Mainstream Bar &amp\; Grill. There is a $15 fee\; breakfast included.&nbsp\;
LOCATION:Mainstream Bar & Grill 13385 Poway Rd\, Poway
UID:e.530.10601
SEQUENCE:3
DTSTAMP:20260422T125158Z
URL:https://business.poway.com/events/details/connections-group-06-28-2022-10601
END:VEVENT

END:VCALENDAR
