BEGIN:VCALENDAR
VERSION:2.0
PRODID:-//ChamberMaster//Event Calendar 2.0//EN
METHOD:PUBLISH
X-PUBLISHED-TTL:P3D
REFRESH-INTERVAL:P3D
CALSCALE:GREGORIAN
BEGIN:VEVENT
DTSTART:20200623T140000Z
DTEND:20200623T153000Z
X-MICROSOFT-CDO-ALLDAYEVENT:FALSE
SUMMARY:Connections Group
DESCRIPTION:Connections Group will meet in-person at Mainstream Bar & Grill. For those who prefer to join via Zoom\, please click: \n\nhttps://us02web.zoom.us/j/83712421039?pwd=YXNLdXhJMUtXMUFuNDRubGJJU2RWdz09
X-ALT-DESC;FMTTYPE=text/html:<span style="color: rgb(75\, 85\, 111)\; font-family: omnes-pro\, sans-serif\; font-size: 17px\; letter-spacing: 1px\;">Connections Group will meet in-person at Mainstream Bar &amp\; Grill. For those who prefer to join via Zoom\, please click:&nbsp\;</span><br />\n<a data-saferedirecturl="https://www.google.com/url?q=https://us02web.zoom.us/j/83712421039?pwd%3DYXNLdXhJMUtXMUFuNDRubGJJU2RWdz09&amp\;source=gmail&amp\;ust=1592928773460000&amp\;usg=AFQjCNFYWjz65F1rdAyVrdAnjCR4GKbEAg" href="https://us02web.zoom.us/j/83712421039?pwd=YXNLdXhJMUtXMUFuNDRubGJJU2RWdz09" style="color: rgb(17\, 85\, 204)\; font-family: Arial\, Helvetica\, sans-serif\; font-size: small\;" target="_blank">https://us02web.zoom.us/j/<wbr />83712421039?pwd=<wbr />YXNLdXhJMUtXMUFuNDRubGJJU2RWdz<wbr />09</a>
LOCATION:Mainstream Bar & Grill 13385 Poway Road For those who prefer to join via Zoom\, please click: https://us02web.zoom.us/j/83712421039?pwd=YXNLdXhJMUtXMUFuNDRubGJJU2RWdz09
UID:e.530.10577
SEQUENCE:3
DTSTAMP:20260420T183032Z
URL:https://business.poway.com/events/details/connections-group-06-23-2020-10577
END:VEVENT

END:VCALENDAR
