BEGIN:VCALENDAR
VERSION:2.0
PRODID:-//ChamberMaster//Event Calendar 2.0//EN
METHOD:PUBLISH
X-PUBLISHED-TTL:P3D
REFRESH-INTERVAL:P3D
CALSCALE:GREGORIAN
BEGIN:VEVENT
DTSTART:20210622T140000Z
DTEND:20210622T153000Z
X-MICROSOFT-CDO-ALLDAYEVENT:FALSE
SUMMARY:Connections Group
DESCRIPTION:Connections Group meets twice a month in-person at Mainstream Bar & Grill\, and is available to attend via zoom (registered attendees will be sent a zoom link)
X-ALT-DESC;FMTTYPE=text/html:Connections Group meets twice a month in-person at Mainstream Bar &amp\; Grill\, and is available to attend via zoom (registered attendees will be sent a zoom link)
LOCATION:Mainstream Bar & Grill 13385 Poway Rd\, Poway
UID:e.530.10589
SEQUENCE:3
DTSTAMP:20260419T234138Z
URL:https://business.poway.com/events/details/connections-group-06-22-2021-10589
END:VEVENT

END:VCALENDAR
