BEGIN:VCALENDAR
VERSION:2.0
PRODID:-//ChamberMaster//Event Calendar 2.0//EN
METHOD:PUBLISH
X-PUBLISHED-TTL:P3D
REFRESH-INTERVAL:P3D
CALSCALE:GREGORIAN
BEGIN:VEVENT
DTSTART:20210525T140000Z
DTEND:20210525T153000Z
X-MICROSOFT-CDO-ALLDAYEVENT:FALSE
SUMMARY:Connections Group
DESCRIPTION:Connections Group is back\, meeting twice a month in-person at Mainstream Bar & Grill!
X-ALT-DESC;FMTTYPE=text/html:Connections Group is back\, meeting twice a month in-person at Mainstream Bar &amp\; Grill!
LOCATION:Mainstream Bar & Grill 13385 Poway Rd\, Poway
UID:e.530.10588
SEQUENCE:3
DTSTAMP:20260420T010100Z
URL:https://business.poway.com/events/details/connections-group-05-25-2021-10588
END:VEVENT

END:VCALENDAR
