BEGIN:VCALENDAR
VERSION:2.0
PRODID:-//ChamberMaster//Event Calendar 2.0//EN
METHOD:PUBLISH
X-PUBLISHED-TTL:P3D
REFRESH-INTERVAL:P3D
CALSCALE:GREGORIAN
BEGIN:VEVENT
DTSTART:20210126T150000Z
DTEND:20210126T163000Z
X-MICROSOFT-CDO-ALLDAYEVENT:FALSE
SUMMARY:Connections Group
DESCRIPTION:Connections Group will meet virtually until further notice. \n\n\n\nThis week\, we welcome special guest\, Deputy Mayor Barry Leonard who will be talking about City updates and then taking some questions from attendees!
X-ALT-DESC;FMTTYPE=text/html:Connections Group will meet virtually until further notice.&nbsp\;<br />\n<br />\nThis week\, we welcome&nbsp\;<span style="color: rgb(34\, 34\, 34)\; font-family: Arial\, Helvetica\, sans-serif\; font-size: small\;">special guest\, <strong>Deputy Mayor Barry Leonard</strong> who will be talking about City updates and then taking some questions from attendees!</span>
LOCATION:https://us02web.zoom.us/j/83382684629?pwd=dWdlZStZSG5yNzQyVi92dXBQd2p1dz09
UID:e.530.10584
SEQUENCE:3
DTSTAMP:20260420T094410Z
URL:https://business.poway.com/events/details/connections-group-01-26-2021-10584
END:VEVENT

END:VCALENDAR
