BEGIN:VCALENDAR
VERSION:2.0
PRODID:-//ChamberMaster//Event Calendar 2.0//EN
METHOD:PUBLISH
X-PUBLISHED-TTL:P3D
REFRESH-INTERVAL:P3D
CALSCALE:GREGORIAN
BEGIN:VEVENT
DTSTART:20220125T150000Z
DTEND:20220125T163000Z
X-MICROSOFT-CDO-ALLDAYEVENT:FALSE
SUMMARY:Connections Group
DESCRIPTION:Connections Group meets twice a month in-person at Mainstream Bar & Grill.
X-ALT-DESC;FMTTYPE=text/html:Connections Group meets twice a month in-person at Mainstream Bar &amp\; Grill.
LOCATION:Mainstream Bar & Grill 13385 Poway Rd\, Poway
UID:e.530.10596
SEQUENCE:3
DTSTAMP:20260419T215326Z
URL:https://business.poway.com/events/details/connections-group-01-25-2022-10596
END:VEVENT

END:VCALENDAR
