BEGIN:VCALENDAR
VERSION:2.0
PRODID:-//ChamberMaster//Event Calendar 2.0//EN
METHOD:PUBLISH
X-PUBLISHED-TTL:P3D
REFRESH-INTERVAL:P3D
CALSCALE:GREGORIAN
BEGIN:VEVENT
DTSTART:20201005T160000Z
DTEND:20201005T173000Z
X-MICROSOFT-CDO-ALLDAYEVENT:FALSE
SUMMARY:Committee Chair Orientation
DESCRIPTION:Committee Chair Orientation.  This event is in person or via Zoom.\n\n \nJoin Zoom Meeting\n\nhttps://us02web.zoom.us/j/82978773885?pwd=MG1LWE1XLzM2ZkYrVFhwMlUvVkJEUT09\n\n \n\nMeeting ID: 829 7877 3885\n\nPasscode: 225929\n\nOne tap mobile\n\n+16699006833\,\,82978773885#\,\,\,\,\,\,0#\,\,225929# US (San Jose)\n\n+13462487799\,\,82978773885#\,\,\,\,\,\,0#\,\,225929# US (Houston)\n\n \n\nDial by your location\n\n        +1 669 900 6833 US (San Jose)\n\n        +1 346 248 7799 US (Houston)\n\n        +1 253 215 8782 US (Tacoma)\n\n        +1 301 715 8592 US (Germantown)\n\n        +1 312 626 6799 US (Chicago)\n\n        +1 929 205 6099 US (New York)\n\nMeeting ID: 829 7877 3885\n\nPasscode: 225929
X-ALT-DESC;FMTTYPE=text/html:Committee Chair Orientation.&nbsp\; This event is in person or via Zoom.<br />\n&nbsp\;\n<div style="color: rgb(34\, 34\, 34)\; font-family: Arial\, Helvetica\, sans-serif\; font-size: small\; background-color: rgb(255\, 255\, 255)\;">Join Zoom Meeting</div>\n\n<div style="color: rgb(34\, 34\, 34)\; font-family: Arial\, Helvetica\, sans-serif\; font-size: small\; background-color: rgb(255\, 255\, 255)\;"><a data-saferedirecturl="https://www.google.com/url?q=https://us02web.zoom.us/j/82978773885?pwd%3DMG1LWE1XLzM2ZkYrVFhwMlUvVkJEUT09&amp\;source=gmail&amp\;ust=1601747454491000&amp\;usg=AFQjCNHPB8yws0yCf-yeJWkcilXHZVkLEw" href="https://us02web.zoom.us/j/82978773885?pwd=MG1LWE1XLzM2ZkYrVFhwMlUvVkJEUT09" style="color: rgb(17\, 85\, 204)\;" target="_blank">https://us02web.zoom.us/j/<wbr />82978773885?pwd=<wbr />MG1LWE1XLzM2ZkYrVFhwMlUvVkJEUT<wbr />09</a></div>\n\n<div style="color: rgb(34\, 34\, 34)\; font-family: Arial\, Helvetica\, sans-serif\; font-size: small\; background-color: rgb(255\, 255\, 255)\;">&nbsp\;</div>\n\n<div style="color: rgb(34\, 34\, 34)\; font-family: Arial\, Helvetica\, sans-serif\; font-size: small\; background-color: rgb(255\, 255\, 255)\;">Meeting ID: 829 7877 3885</div>\n\n<div style="color: rgb(34\, 34\, 34)\; font-family: Arial\, Helvetica\, sans-serif\; font-size: small\; background-color: rgb(255\, 255\, 255)\;">Passcode: 225929</div>\n\n<div style="color: rgb(34\, 34\, 34)\; font-family: Arial\, Helvetica\, sans-serif\; font-size: small\; background-color: rgb(255\, 255\, 255)\;">One tap mobile</div>\n\n<div style="color: rgb(34\, 34\, 34)\; font-family: Arial\, Helvetica\, sans-serif\; font-size: small\; background-color: rgb(255\, 255\, 255)\;">+16699006833\,\,82978773885#\,\,\,\,<wbr />\,\,0#\,\,225929# US (San Jose)</div>\n\n<div style="color: rgb(34\, 34\, 34)\; font-family: Arial\, Helvetica\, sans-serif\; font-size: small\; background-color: rgb(255\, 255\, 255)\;">+13462487799\,\,82978773885#\,\,\,\,<wbr />\,\,0#\,\,225929# US (Houston)</div>\n\n<div style="color: rgb(34\, 34\, 34)\; font-family: Arial\, Helvetica\, sans-serif\; font-size: small\; background-color: rgb(255\, 255\, 255)\;">&nbsp\;</div>\n\n<div style="color: rgb(34\, 34\, 34)\; font-family: Arial\, Helvetica\, sans-serif\; font-size: small\; background-color: rgb(255\, 255\, 255)\;">Dial by your location</div>\n\n<div style="color: rgb(34\, 34\, 34)\; font-family: Arial\, Helvetica\, sans-serif\; font-size: small\; background-color: rgb(255\, 255\, 255)\;">&nbsp\; &nbsp\; &nbsp\; &nbsp\; +1 669 900 6833 US (San Jose)</div>\n\n<div style="color: rgb(34\, 34\, 34)\; font-family: Arial\, Helvetica\, sans-serif\; font-size: small\; background-color: rgb(255\, 255\, 255)\;">&nbsp\; &nbsp\; &nbsp\; &nbsp\; +1 346 248 7799 US (Houston)</div>\n\n<div style="color: rgb(34\, 34\, 34)\; font-family: Arial\, Helvetica\, sans-serif\; font-size: small\; background-color: rgb(255\, 255\, 255)\;">&nbsp\; &nbsp\; &nbsp\; &nbsp\; +1 253 215 8782 US (Tacoma)</div>\n\n<div style="color: rgb(34\, 34\, 34)\; font-family: Arial\, Helvetica\, sans-serif\; font-size: small\; background-color: rgb(255\, 255\, 255)\;">&nbsp\; &nbsp\; &nbsp\; &nbsp\; +1 301 715 8592 US (Germantown)</div>\n\n<div style="color: rgb(34\, 34\, 34)\; font-family: Arial\, Helvetica\, sans-serif\; font-size: small\; background-color: rgb(255\, 255\, 255)\;">&nbsp\; &nbsp\; &nbsp\; &nbsp\; +1 312 626 6799 US (Chicago)</div>\n\n<div style="color: rgb(34\, 34\, 34)\; font-family: Arial\, Helvetica\, sans-serif\; font-size: small\; background-color: rgb(255\, 255\, 255)\;">&nbsp\; &nbsp\; &nbsp\; &nbsp\; +1 929 205 6099 US (New York)</div>\n\n<div style="color: rgb(34\, 34\, 34)\; font-family: Arial\, Helvetica\, sans-serif\; font-size: small\; background-color: rgb(255\, 255\, 255)\;">Meeting ID: 829 7877 3885</div>\n\n<div style="color: rgb(34\, 34\, 34)\; font-family: Arial\, Helvetica\, sans-serif\; font-size: small\; background-color: rgb(255\, 255\, 255)\;">Passcode: 225929</div>\n
LOCATION:Halcyon Real Estate Services 14282 Danielson St. Poway\, CA 92064 Or\, virtually via Zoom: Join Zoom Meeting https://us02web.zoom.us/j/82978773885?pwd=MG1LWE1XLzM2ZkYrVFhwMlUvVkJEUT09 Meeting ID: 829 7877 3885 Passcode: 225929
UID:e.530.17399
SEQUENCE:3
DTSTAMP:20260420T124634Z
URL:https://business.poway.com/events/details/committee-chair-orientation-17399
END:VEVENT

END:VCALENDAR
