BEGIN:VCALENDAR
VERSION:2.0
PRODID:-//ChamberMaster//Event Calendar 2.0//EN
METHOD:PUBLISH
X-PUBLISHED-TTL:P3D
REFRESH-INTERVAL:P3D
CALSCALE:GREGORIAN
BEGIN:VEVENT
DTSTART:20160901T010000Z
DTEND:20160901T020000Z
X-MICROSOFT-CDO-ALLDAYEVENT:FALSE
SUMMARY:COLLEGE PLANNING WORKSHOP
DESCRIPTION:The Heartland Institute of Financial Education's College Planning Program (HIFE CPP) is a college planning\, coaching and funding program\, the purpose of which is to help students and parents successfully navigate the complex college planning\, selection and financial aid process.\n\n\n\nIt is the goal of the Heartland Institute to help young Americans obtain a college education.  We help families offset the high cost of college by utilizing proven strategies to help reduce a family's "out-of-pocket" costs \n\n\n\nBased on a family's specific financial situation\, we help determine strategies that may reduce the family's "Expected Family Contribution" (EFC)\, thereby qualifying the student for "Need-Based" monies from both federal and state resources\, as well as the college's own resources and private resources.\n\n\n\nWe provide detailed analysis and strategies that help "mitigate" the high cost of college.  Each client/family is assigned a "Coach" who works directly with the student and parents\, assisting them with the college planning\, funding and admissions process.
X-ALT-DESC;FMTTYPE=text/html:<h2>The Heartland Institute of Financial Education&rsquo\;s College Planning Program (HIFE CPP) is a college planning\, coaching and funding program\, the purpose of which is to help students and parents successfully navigate the complex college planning\, selection and financial aid process.<br />\n<br />\nIt is the goal of the Heartland Institute to help young Americans obtain a college education.&nbsp\; We help families offset the high cost of college by utilizing proven strategies to help reduce a family&rsquo\;s &ldquo\;out-of-pocket&rdquo\; costs&hellip\;<br />\n<br />\nBased on a family&rsquo\;s specific financial situation\, we help determine strategies that may reduce the family&rsquo\;s &ldquo\;Expected Family Contribution&rdquo\; (EFC)\, thereby qualifying the student for &ldquo\;Need-Based&rdquo\; monies from both federal and state resources\, as well as the college&rsquo\;s own resources and private resources.<br />\n<br />\nWe provide detailed analysis and strategies that help &ldquo\;mitigate&rdquo\; the high cost of college.&nbsp\; Each client/family is assigned a &ldquo\;Coach&rdquo\; who works directly with the student and parents\, assisting them with the college planning\, funding and admissions process.</h2>\n
LOCATION:Rancho Penasquitos Library 13330 Salmon River Rd\, San Diego\, CA 92129
UID:e.530.11616
SEQUENCE:3
DTSTAMP:20260420T210908Z
URL:https://business.poway.com/events/details/college-planning-workshop-08-31-2016-11616
END:VEVENT

END:VCALENDAR
