BEGIN:VCALENDAR
VERSION:2.0
PRODID:-//ChamberMaster//Event Calendar 2.0//EN
METHOD:PUBLISH
X-PUBLISHED-TTL:P3D
REFRESH-INTERVAL:P3D
CALSCALE:GREGORIAN
BEGIN:VEVENT
DTSTART:20210610T150000Z
DTEND:20210610T160000Z
X-MICROSOFT-CDO-ALLDAYEVENT:FALSE
SUMMARY:Monthly Morning Mini Mixer
DESCRIPTION:A new networking opportunity: Coffee Club. The Coffee Club morning mixer takes place on the second Thursday of every month. \n\n \n\nCoffee Club gives attendees the opportunity to network while participating in a group activity\, discussion or presentation.
X-ALT-DESC;FMTTYPE=text/html:<span style="font-size:12px\;"><span style="line-height: 16.1px\; font-family: Arial\,sans-serif\;">A new networking opportunity:</span><span class="apple-converted-space"><span style="line-height: 16.1px\; font-family: Arial\,sans-serif\;"> </span></span><em><span style="line-height: 16.1px\; font-family: Arial\,sans-serif\;">Coffee Club.</span></em><span style="line-height: 16.1px\; font-family: Arial\,sans-serif\;"> The Coffee Club morning mixer takes place on the second Thursday of every month.&nbsp\;</span><br>\n<span style="line-height: 7.66667px\; font-family: Arial\,sans-serif\;">&nbsp\;<br>\nCoffee Club gives attendees the opportunity to network while participating in a group activity\, discussion or presentation.</span></span>
LOCATION:TBD
UID:e.530.13212
SEQUENCE:3
DTSTAMP:20260419T234445Z
URL:https://business.poway.com/events/details/coffee-club-morning-mixer-06-10-2021-13212
END:VEVENT

END:VCALENDAR
