BEGIN:VCALENDAR
VERSION:2.0
PRODID:-//ChamberMaster//Event Calendar 2.0//EN
METHOD:PUBLISH
X-PUBLISHED-TTL:P3D
REFRESH-INTERVAL:P3D
CALSCALE:GREGORIAN
BEGIN:VEVENT
DTSTART;VALUE=DATE:20201213
DTEND;VALUE=DATE:20201214
TRANSP:TRANSPARENT
X-MICROSOFT-CDO-ALLDAYEVENT:TRUE
SUMMARY:Christmas Collectors Auction
DESCRIPTION:2020 December Christmas Collectors Auction\n\nby NorthCountyAuctions.Com\n\nLots start closing Sunday\, December 13\n\n6:15 PM  Pacific\n\nescondido\,  CA\n\nGold\, Silver\, Jewelry\, Coins\, Sports Cards\, Several Great Estates - Santa is coming! To get upcoming auctions\, text ncauctions to 77222. Email or text with questions (619) 787-4906
X-ALT-DESC;FMTTYPE=text/html:2020 December Christmas Collectors Auction<br />\nby NorthCountyAuctions.Com<br />\nLots start closing Sunday\, December 13<br />\n6:15 PM&nbsp\; Pacific<br />\nescondido\,&nbsp\; CA<br />\nGold\, Silver\, Jewelry\, Coins\, Sports Cards\, Several Great Estates - Santa is coming! To get upcoming auctions\, text ncauctions to 77222. Email or text with questions (619) 787-4906
LOCATION:1996 Don Lee Pl Suite D\, Escondido\, CA 92029 https://northcountyauctions.com/
UID:e.530.17760
SEQUENCE:3
DTSTAMP:20260420T093713Z
URL:https://business.poway.com/events/details/christmas-collectors-auction-12-13-2020-17760
END:VEVENT

END:VCALENDAR
