BEGIN:VCALENDAR
VERSION:2.0
PRODID:-//ChamberMaster//Event Calendar 2.0//EN
METHOD:PUBLISH
X-PUBLISHED-TTL:P3D
REFRESH-INTERVAL:P3D
CALSCALE:GREGORIAN
BEGIN:VEVENT
DTSTART;VALUE=DATE:20201111
DTEND;VALUE=DATE:20201112
TRANSP:TRANSPARENT
X-MICROSOFT-CDO-ALLDAYEVENT:TRUE
SUMMARY:Chamber Office Closed Today-Veteran's Day
DESCRIPTION:The Office will be closed today in observance of Labor Day.
X-ALT-DESC;FMTTYPE=text/html:<div>The Office will be closed today in observance of Labor Day.</div>\n
LOCATION:
UID:e.530.17588
SEQUENCE:3
DTSTAMP:20260420T111131Z
URL:https://business.poway.com/events/details/chamber-office-closed-today-veteran-s-day-17588
END:VEVENT

END:VCALENDAR
