BEGIN:VCALENDAR
VERSION:2.0
PRODID:-//ChamberMaster//Event Calendar 2.0//EN
METHOD:PUBLISH
X-PUBLISHED-TTL:P3D
REFRESH-INTERVAL:P3D
CALSCALE:GREGORIAN
BEGIN:VEVENT
DTSTART;VALUE=DATE:20201126
DTEND;VALUE=DATE:20201128
TRANSP:TRANSPARENT
X-MICROSOFT-CDO-ALLDAYEVENT:TRUE
SUMMARY:Chamber Office Closed -Thanksgiving Holiday
DESCRIPTION:The Chamber Office will be closed Thursday & Friday for the Thanksgiving Holiday.
X-ALT-DESC;FMTTYPE=text/html:<div>The Chamber Office will be closed Thursday &amp\; Friday for the Thanksgiving Holiday.</div>\n
LOCATION:
UID:e.530.17589
SEQUENCE:3
DTSTAMP:20260420T111132Z
URL:https://business.poway.com/events/details/chamber-office-closed-thanksgiving-holiday-17589
END:VEVENT

END:VCALENDAR
