BEGIN:VCALENDAR
VERSION:2.0
PRODID:-//ChamberMaster//Event Calendar 2.0//EN
METHOD:PUBLISH
X-PUBLISHED-TTL:P3D
REFRESH-INTERVAL:P3D
CALSCALE:GREGORIAN
BEGIN:VEVENT
DTSTART;VALUE=DATE:20220715
DTEND;VALUE=DATE:20220716
TRANSP:TRANSPARENT
X-MICROSOFT-CDO-ALLDAYEVENT:TRUE
SUMMARY:Chamber Office Closed
DESCRIPTION:The Chamber office is closed Friday\, July 15. Please email mike@poway.com with any urgent matters or leave us a phone message at 858-748-0016.
X-ALT-DESC;FMTTYPE=text/html:The Chamber office is closed Friday\, July 15. Please email mike@poway.com with any urgent matters or leave us a phone message at 858-748-0016.
LOCATION:
UID:e.530.20594
SEQUENCE:3
DTSTAMP:20260422T131551Z
URL:https://business.poway.com/events/details/chamber-office-closed-20594
END:VEVENT

END:VCALENDAR
