BEGIN:VCALENDAR
VERSION:2.0
PRODID:-//ChamberMaster//Event Calendar 2.0//EN
METHOD:PUBLISH
X-PUBLISHED-TTL:P3D
REFRESH-INTERVAL:P3D
CALSCALE:GREGORIAN
BEGIN:VEVENT
DTSTART;VALUE=DATE:20201021
DTEND;VALUE=DATE:20201022
TRANSP:TRANSPARENT
X-MICROSOFT-CDO-ALLDAYEVENT:TRUE
SUMMARY:Chamber of Commerce Day!
DESCRIPTION:Join us Wednesday\, October 21st to celebrate Support Your Local Chamber of Commerce Day. Chambers of commerce have never been more crucial\, helping their communities through the pandemic and focusing on economic recovery far into the future.\n\nWhat is Support Your Local Chamber of Commerce Day?\n\nSupport Your Local Chamber of Commerce Day celebrates the catalytic work that is happening within chamber of commerce organizations. Celebrated annually on the third Wednesday in October\, this day provides an opportunity to recognize and highlight the organizations\, professionals and volunteers who work to transform communities.\n\n \n\nJoin other chamber of commerce advocates as they commit to supporting their local organization.\n\n\n	Consider volunteering with the chamber of commerce in your area\n	Encourage someone who is not a member to join your local chamber of commerce\n	Attend the next event hosted by your chamber\n	Post a photo on social media about why you support your chamber using #ChamberStrong\n	Write your favorite chamber professional a thank you note\n	Make sure your membership is current with your local chamber of commerce
X-ALT-DESC;FMTTYPE=text/html:<h2 style="font-family: Roboto\, Helvetica\, sans-serif\; color: rgb(0\, 114\, 151)\; font-size: 24px\; font-weight: bold\;">Join us Wednesday\, October 21st to celebrate Support Your Local Chamber of Commerce Day. Chambers of commerce have never been more crucial\, helping their communities through the pandemic and focusing on economic recovery far into the future.</h2>\n\n<h2 class="header" style="font-family: Roboto\, Helvetica\, sans-serif\; color: rgb(0\, 114\, 151)\; font-size: 24px\; font-weight: bold\;">What is Support Your Local Chamber of Commerce Day?</h2>\n\n<p style="font-family: Roboto\, Helvetica\, sans-serif\; color: rgb(62\, 69\, 67)\; line-height: 30px\; font-size: 16px\;">Support Your Local Chamber of Commerce Day celebrates the catalytic work that is happening within chamber of commerce organizations. Celebrated annually on the third Wednesday in October\, this day provides an opportunity to recognize and highlight the organizations\, professionals and volunteers who work to transform communities.<br />\n&nbsp\;</p>\n\n<p style="font-family: Roboto\, Helvetica\, sans-serif\; color: rgb(62\, 69\, 67)\; line-height: 30px\; font-size: 16px\;">Join other chamber of commerce advocates as they commit to supporting their local organization.</p>\n\n<ul style="font-family: Roboto\, Helvetica\, sans-serif\; color: rgb(62\, 69\, 67)\; font-size: 16px\;">\n	<li style="line-height: 30px\;">Consider volunteering with the chamber of commerce in your area</li>\n	<li style="line-height: 30px\;">Encourage someone who is not a member to join your local chamber of commerce</li>\n	<li style="line-height: 30px\;">Attend the next event hosted by your chamber</li>\n	<li style="line-height: 30px\;">Post a photo on social media about why you support your chamber using&nbsp\;<a href="https://twitter.com/hashtag/ChamberStrong" rel="noopener noreferrer" style="text-decoration-line: none\; color: rgb(152\, 0\, 46)\; font-weight: bold\;" target="_blank">#ChamberStrong</a></li>\n	<li style="line-height: 30px\;">Write your favorite chamber professional a thank you note</li>\n	<li style="line-height: 30px\;">Make sure your membership is current with your local chamber of commerce</li>\n</ul>\n
LOCATION:
UID:e.530.17447
SEQUENCE:3
DTSTAMP:20260420T124548Z
URL:https://business.poway.com/events/details/chamber-of-commerce-day-17447
END:VEVENT

END:VCALENDAR
