BEGIN:VCALENDAR
VERSION:2.0
PRODID:-//ChamberMaster//Event Calendar 2.0//EN
METHOD:PUBLISH
X-PUBLISHED-TTL:P3D
REFRESH-INTERVAL:P3D
CALSCALE:GREGORIAN
BEGIN:VEVENT
DTSTART:20201001T010000Z
DTEND:20201001T020000Z
X-MICROSOFT-CDO-ALLDAYEVENT:FALSE
SUMMARY:Candidates Forum (Virtual)
DESCRIPTION:The Poway Chamber of Commerce\, Green Valley Civic Association\, COX\, and Poway Kiwanis are partnering to bring a Candidates Forum to the public.  Find our where candidates stand on important issues that will affect you and your community.\n\n\n\nThere will be two virtual forums this year\, each offering the public a chance to hear from local government candidates\, with the opportunity for Q&A. \n\n\n\nWednesday\, September 30 Candidates:\n\n	San Diego County Board of Supervisors\n	\n		District 2: Steve Vaus & Joel Anderson\n	\n	\n	California State Assembly\n	\n		77th District: Brian Maienschein (incumbent) tentative & June Cutter\n	\n	\n\n\n\nTo join the meeting\, click the link below:\n\nTopic:  2020 Virtual Candidates Forum Session 2 of 2\n\nTime: Sep 30\, 2020 06:00 PM Pacific Time (US and Canada)\n\n\n\nJoin Zoom Meeting\n\nPlease click the link below to join the webinar:\n\nhttps://us02web.zoom.us/j/84840329757?pwd=UmRKajZXWndidXN2c2JpbEJXWWtvUT09\n\nPasscode: 881405\n\nOr iPhone one-tap :\n\n    US: +16699006833\,\,84840329757#\,\,\,\,\,\,0#\,\,881405#  or +13462487799\,\,84840329757#\,\,\,\,\,\,0#\,\,881405#\n\nOr Telephone:\n\n    Dial(for higher quality\, dial a number based on your current location):\n\n        US: +1 669 900 6833  or +1 346 248 7799  or +1 253 215 8782  or +1 301 715 8592  or +1 312 626 6799  or +1 929 205 6099\n\nWebinar ID: 848 4032 9757\n\nPasscode: 881405\n\n    International numbers available: https://us02web.zoom.us/u/kb5ArzbhNy
X-ALT-DESC;FMTTYPE=text/html:The Poway Chamber of Commerce\, Green Valley Civic Association\, COX\, and Poway Kiwanis are partnering to bring a Candidates Forum to the public.&nbsp\;&nbsp\;Find our where candidates stand on important issues that will affect you and your community.<br />\n<br />\nThere will be two virtual forums this year\, each offering the public a chance to hear from local government candidates\, with the opportunity for Q&amp\;A.&nbsp\;<br />\n<br />\nWednesday\, September 30 Candidates:\n<ul>\n	<li>San Diego County Board of Supervisors\n	<ul>\n		<li>District 2: Steve Vaus &amp\; Joel Anderson</li>\n	</ul>\n	</li>\n	<li>California State Assembly\n	<ul>\n		<li>77th District: Brian Maienschein (incumbent) <em>tentative&nbsp\;</em>&amp\; June Cutter</li>\n	</ul>\n	</li>\n</ul>\n<br />\n<span style="color: rgb(34\, 34\, 34)\; font-family: Arial\, Helvetica\, sans-serif\; font-size: small\;"><u>To join the meeting\, click the link below</u>:<br />\nTopic: &nbsp\;2020 Virtual Candidates Forum Session 2 of 2</span><br style="color: rgb(34\, 34\, 34)\; font-family: Arial\, Helvetica\, sans-serif\; font-size: small\;" />\n<span style="color: rgb(34\, 34\, 34)\; font-family: Arial\, Helvetica\, sans-serif\; font-size: small\;">Time: Sep 30\, 2020 06:00 PM Pacific Time (US and Canada)</span><br style="color: rgb(34\, 34\, 34)\; font-family: Arial\, Helvetica\, sans-serif\; font-size: small\;" />\n<br style="color: rgb(34\, 34\, 34)\; font-family: Arial\, Helvetica\, sans-serif\; font-size: small\;" />\n<span style="color: rgb(34\, 34\, 34)\; font-family: Arial\, Helvetica\, sans-serif\; font-size: small\;">Join Zoom Meeting</span><br style="color: rgb(34\, 34\, 34)\; font-family: Arial\, Helvetica\, sans-serif\; font-size: small\;" />\n<span class="im" style="color: rgb(80\, 0\, 80)\; font-family: Arial\, Helvetica\, sans-serif\; font-size: small\;">Please click the link below to join the webinar:</span><br />\n<a data-saferedirecturl="https://www.google.com/url?q=https://us02web.zoom.us/j/84840329757?pwd%3DUmRKajZXWndidXN2c2JpbEJXWWtvUT09&amp\;source=gmail&amp\;ust=1600877850071000&amp\;usg=AFQjCNE2RCUOHPYxcVCJLcsCUWL9w7dqIw" href="https://us02web.zoom.us/j/84840329757?pwd=UmRKajZXWndidXN2c2JpbEJXWWtvUT09" style="color: rgb(17\, 85\, 204)\; font-family: Arial\, Helvetica\, sans-serif\; font-size: small\;" target="_blank">https://us02web.zoom.us/j/<wbr />84840329757?pwd=<wbr />UmRKajZXWndidXN2c2JpbEJXWWtvUT<wbr />09</a><br style="color: rgb(34\, 34\, 34)\; font-family: Arial\, Helvetica\, sans-serif\; font-size: small\;" />\n<span style="color: rgb(34\, 34\, 34)\; font-family: Arial\, Helvetica\, sans-serif\; font-size: small\;">Passcode: 881405</span><br style="color: rgb(34\, 34\, 34)\; font-family: Arial\, Helvetica\, sans-serif\; font-size: small\;" />\n<span style="color: rgb(34\, 34\, 34)\; font-family: Arial\, Helvetica\, sans-serif\; font-size: small\;">Or iPhone one-tap :</span><br style="color: rgb(34\, 34\, 34)\; font-family: Arial\, Helvetica\, sans-serif\; font-size: small\;" />\n<span style="color: rgb(34\, 34\, 34)\; font-family: Arial\, Helvetica\, sans-serif\; font-size: small\;">&nbsp\; &nbsp\; US: +16699006833\,\,84840329757#\,\,\,\,</span><wbr style="color: rgb(34\, 34\, 34)\; font-family: Arial\, Helvetica\, sans-serif\; font-size: small\;" /><span style="color: rgb(34\, 34\, 34)\; font-family: Arial\, Helvetica\, sans-serif\; font-size: small\;">\,\,0#\,\,881405# &nbsp\;or +13462487799\,\,84840329757#\,\,\,\,</span><wbr style="color: rgb(34\, 34\, 34)\; font-family: Arial\, Helvetica\, sans-serif\; font-size: small\;" /><span style="color: rgb(34\, 34\, 34)\; font-family: Arial\, Helvetica\, sans-serif\; font-size: small\;">\,\,0#\,\,881405#</span><br style="color: rgb(34\, 34\, 34)\; font-family: Arial\, Helvetica\, sans-serif\; font-size: small\;" />\n<span class="im" style="color: rgb(80\, 0\, 80)\; font-family: Arial\, Helvetica\, sans-serif\; font-size: small\;">Or Telephone:<br />\n&nbsp\; &nbsp\; Dial(for higher quality\, dial a number based on your current location):</span><br />\n<span style="color: rgb(34\, 34\, 34)\; font-family: Arial\, Helvetica\, sans-serif\; font-size: small\;">&nbsp\; &nbsp\; &nbsp\; &nbsp\; US: +1 669 900 6833 &nbsp\;or +1 346 248 7799 &nbsp\;or +1 253 215 8782 &nbsp\;or +1 301 715 8592 &nbsp\;or +1 312 626 6799 &nbsp\;or +1 929 205 6099</span><br style="color: rgb(34\, 34\, 34)\; font-family: Arial\, Helvetica\, sans-serif\; font-size: small\;" />\n<span style="color: rgb(34\, 34\, 34)\; font-family: Arial\, Helvetica\, sans-serif\; font-size: small\;">Webinar ID: 848 4032 9757</span><br style="color: rgb(34\, 34\, 34)\; font-family: Arial\, Helvetica\, sans-serif\; font-size: small\;" />\n<span style="color: rgb(34\, 34\, 34)\; font-family: Arial\, Helvetica\, sans-serif\; font-size: small\;">Passcode: 881405</span><br style="color: rgb(34\, 34\, 34)\; font-family: Arial\, Helvetica\, sans-serif\; font-size: small\;" />\n<span style="color: rgb(34\, 34\, 34)\; font-family: Arial\, Helvetica\, sans-serif\; font-size: small\;">&nbsp\; &nbsp\; International numbers available:&nbsp\;</span><a data-saferedirecturl="https://www.google.com/url?q=https://us02web.zoom.us/u/kb5ArzbhNy&amp\;source=gmail&amp\;ust=1600877850071000&amp\;usg=AFQjCNHqglNC6oEpTEFqfNb3aMsLsimdlA" href="https://us02web.zoom.us/u/kb5ArzbhNy" style="color: rgb(17\, 85\, 204)\; font-family: Arial\, Helvetica\, sans-serif\; font-size: small\;" target="_blank">https://us02web.zoom.us/u/<wbr />kb5ArzbhNy</a>
LOCATION:The Candidates Forum will be held virtually: https://us02web.zoom.us/j/84840329757?pwd=UmRKajZXWndidXN2c2JpbEJXWWtvUT09 Passcode: 881405
UID:e.530.16514
SEQUENCE:3
DTSTAMP:20260420T151205Z
URL:https://business.poway.com/events/details/candidates-forum-virtual-16514
END:VEVENT

END:VCALENDAR
