BEGIN:VCALENDAR
VERSION:2.0
PRODID:-//ChamberMaster//Event Calendar 2.0//EN
METHOD:PUBLISH
X-PUBLISHED-TTL:P3D
REFRESH-INTERVAL:P3D
CALSCALE:GREGORIAN
BEGIN:VEVENT
DTSTART:20200924T010000Z
DTEND:20200924T023000Z
X-MICROSOFT-CDO-ALLDAYEVENT:FALSE
SUMMARY:Candidates Forum (Virtual)
DESCRIPTION:The Poway Chamber of Commerce\, Green Valley Civic Association\, COX\, and Poway Kiwanis are partnering to bring a Candidates Forum to the public. Find our where candidates stand on important issues that will affect you and your community.\n\n\n\nThere will be two virtual forums this year\, each offering the public a chance to hear from local government candidates\, with the opportunity for Q&A. \n\n\n\nWednesday\, September 23 Candidates:\n\n	Poway Unified School District Board \n	\n		Area A: Darshana Patel (incumbent) & Tim Dougherty\n		Area E: Jimmy Karam & Cindy Sytsma\n	\n	\n	Poway City Council\n	\n		District 2: Barry Leonard (incumbent) & Phil Factor\n		District 4: Caylin Frank (incumbent) & Chris Olps & Frank Fournier\n	\n	\n\n\n\nTo Join the Zoom Meeting\, click the link below:\n\nWhen: Sep 23\, 2020 06:00 PM Pacific Time (US and Canada)\n\nTopic: 2020 Virtual Candidates Forum\, Session 1 of 2\n\n\n\nPlease click the link below to join the webinar:\n\nhttps://us02web.zoom.us/j/82303934986?pwd=MlB3dDhPM1QwbUZXY09KWnV5VjA3QT09\n\nPasscode: 210931\n\n\n\nOr iPhone one-tap :\n\n    US: +16699006833\,\,82303934986#\,\,\,\,\,\,0#\,\,210931#  or +12532158782\,\,82303934986#\,\,\,\,\,\,0#\,\,210931#\n\nOr Telephone:\n\n    Dial(for higher quality\, dial a number based on your current location):\n\n        US: +1 669 900 6833  or +1 253 215 8782  or +1 346 248 7799  or +1 929 205 6099  or +1 301 715 8592  or +1 312 626 6799\n\nWebinar ID: 823 0393 4986\n\nPasscode: 210931\n\n    International numbers available: https://us02web.zoom.us/u/kdxao16RTu
X-ALT-DESC;FMTTYPE=text/html:The Poway Chamber of Commerce\, Green Valley Civic Association\, COX\, and Poway Kiwanis are partnering to bring a Candidates Forum to the public. Find our where candidates stand on important issues that will affect you and your community.<br />\n<br />\nThere will be two virtual forums this year\, each offering the public a chance to hear from local government candidates\, with the opportunity for Q&amp\;A.&nbsp\;<br />\n<br />\nWednesday\, September 23 Candidates:\n<ul>\n	<li>Poway Unified School District Board&nbsp\;\n	<ul>\n		<li>Area A: Darshana Patel (incumbent) &amp\; Tim&nbsp\;Dougherty</li>\n		<li>Area E: Jimmy Karam&nbsp\;&amp\; Cindy Sytsma</li>\n	</ul>\n	</li>\n	<li>Poway City Council\n	<ul>\n		<li>District 2: Barry Leonard (incumbent) &amp\; Phil Factor</li>\n		<li>District 4: Caylin Frank (incumbent) &amp\; Chris Olps &amp\; Frank Fournier</li>\n	</ul>\n	</li>\n</ul>\n<br />\n<span style="color: rgb(34\, 34\, 34)\; font-family: Arial\, Helvetica\, sans-serif\; font-size: small\;"><u>To Join the Zoom Meeting\, click the link below</u>:<br />\nWhen: Sep 23\, 2020 06:00 PM Pacific Time (US and Canada)</span><br style="color: rgb(34\, 34\, 34)\; font-family: Arial\, Helvetica\, sans-serif\; font-size: small\;" />\n<span style="color: rgb(34\, 34\, 34)\; font-family: Arial\, Helvetica\, sans-serif\; font-size: small\;">Topic: 2020 Virtual Candidates Forum\, Session 1 of 2</span><br />\n<br />\n<strong><span class="im" style="color: rgb(80\, 0\, 80)\; font-family: Arial\, Helvetica\, sans-serif\; font-size: small\;">Please click the link below to join the webinar:</span><br />\n<a data-saferedirecturl="https://www.google.com/url?q=https://us02web.zoom.us/j/82303934986?pwd%3DMlB3dDhPM1QwbUZXY09KWnV5VjA3QT09&amp\;source=gmail&amp\;ust=1600877850071000&amp\;usg=AFQjCNHSk-g3NWFGch1owUFyITlKqGB9qA" href="https://us02web.zoom.us/j/82303934986?pwd=MlB3dDhPM1QwbUZXY09KWnV5VjA3QT09" style="color: rgb(17\, 85\, 204)\; font-family: Arial\, Helvetica\, sans-serif\; font-size: small\;" target="_blank">https://us02web.zoom.us/j/<wbr />82303934986?pwd=<wbr />MlB3dDhPM1QwbUZXY09KWnV5VjA3QT<wbr />09</a></strong><br style="color: rgb(34\, 34\, 34)\; font-family: Arial\, Helvetica\, sans-serif\; font-size: small\;" />\n<span style="color: rgb(34\, 34\, 34)\; font-family: Arial\, Helvetica\, sans-serif\; font-size: small\;"><strong>Passcode: 210931</strong></span><br />\n<br style="color: rgb(34\, 34\, 34)\; font-family: Arial\, Helvetica\, sans-serif\; font-size: small\;" />\n<span style="color: rgb(34\, 34\, 34)\; font-family: Arial\, Helvetica\, sans-serif\; font-size: small\;">Or iPhone one-tap :</span><br style="color: rgb(34\, 34\, 34)\; font-family: Arial\, Helvetica\, sans-serif\; font-size: small\;" />\n<span style="color: rgb(34\, 34\, 34)\; font-family: Arial\, Helvetica\, sans-serif\; font-size: small\;">&nbsp\; &nbsp\; US: +16699006833\,\,82303934986#\,\,\,\,</span><wbr style="color: rgb(34\, 34\, 34)\; font-family: Arial\, Helvetica\, sans-serif\; font-size: small\;" /><span style="color: rgb(34\, 34\, 34)\; font-family: Arial\, Helvetica\, sans-serif\; font-size: small\;">\,\,0#\,\,210931# &nbsp\;or +12532158782\,\,82303934986#\,\,\,\,</span><wbr style="color: rgb(34\, 34\, 34)\; font-family: Arial\, Helvetica\, sans-serif\; font-size: small\;" /><span style="color: rgb(34\, 34\, 34)\; font-family: Arial\, Helvetica\, sans-serif\; font-size: small\;">\,\,0#\,\,210931#</span><br style="color: rgb(34\, 34\, 34)\; font-family: Arial\, Helvetica\, sans-serif\; font-size: small\;" />\n<span class="im" style="color: rgb(80\, 0\, 80)\; font-family: Arial\, Helvetica\, sans-serif\; font-size: small\;">Or Telephone:<br />\n&nbsp\; &nbsp\; Dial(for higher quality\, dial a number based on your current location):</span><br />\n<span style="color: rgb(34\, 34\, 34)\; font-family: Arial\, Helvetica\, sans-serif\; font-size: small\;">&nbsp\; &nbsp\; &nbsp\; &nbsp\; US: +1 669 900 6833 &nbsp\;or +1 253 215 8782 &nbsp\;or +1 346 248 7799 &nbsp\;or +1 929 205 6099 &nbsp\;or +1 301 715 8592 &nbsp\;or +1 312 626 6799</span><br style="color: rgb(34\, 34\, 34)\; font-family: Arial\, Helvetica\, sans-serif\; font-size: small\;" />\n<span style="color: rgb(34\, 34\, 34)\; font-family: Arial\, Helvetica\, sans-serif\; font-size: small\;">Webinar ID: 823 0393 4986</span><br style="color: rgb(34\, 34\, 34)\; font-family: Arial\, Helvetica\, sans-serif\; font-size: small\;" />\n<span style="color: rgb(34\, 34\, 34)\; font-family: Arial\, Helvetica\, sans-serif\; font-size: small\;">Passcode: 210931</span><br style="color: rgb(34\, 34\, 34)\; font-family: Arial\, Helvetica\, sans-serif\; font-size: small\;" />\n<span style="color: rgb(34\, 34\, 34)\; font-family: Arial\, Helvetica\, sans-serif\; font-size: small\;">&nbsp\; &nbsp\; International numbers available:&nbsp\;</span><a data-saferedirecturl="https://www.google.com/url?q=https://us02web.zoom.us/u/kdxao16RTu&amp\;source=gmail&amp\;ust=1600877850071000&amp\;usg=AFQjCNEUbZO8KVJxgIq1KPoaxwTMesrw2g" href="https://us02web.zoom.us/u/kdxao16RTu" style="color: rgb(17\, 85\, 204)\; font-family: Arial\, Helvetica\, sans-serif\; font-size: small\;" target="_blank">https://us02web.zoom.us/u/<wbr />kdxao16RTu</a>
LOCATION:The Candidates Forum will be held virtually on Zoom: https://us02web.zoom.us/j/82303934986?pwd=MlB3dDhPM1QwbUZXY09KWnV5VjA3QT09 Passcode: 210931
UID:e.530.16513
SEQUENCE:3
DTSTAMP:20260420T134454Z
URL:https://business.poway.com/events/details/candidates-forum-virtual-16513
END:VEVENT

END:VCALENDAR
