BEGIN:VCALENDAR
VERSION:2.0
PRODID:-//ChamberMaster//Event Calendar 2.0//EN
METHOD:PUBLISH
X-PUBLISHED-TTL:P3D
REFRESH-INTERVAL:P3D
CALSCALE:GREGORIAN
BEGIN:VEVENT
DTSTART:20161006T020000Z
DTEND:20161006T040000Z
X-MICROSOFT-CDO-ALLDAYEVENT:FALSE
SUMMARY:Candidates Forum
DESCRIPTION:Take this opportunity to get to know your local candidates!\n\n\n\n7:00 to 7:50 pm: Candidates for PUSD Board of Education\n\npositions will address issues impacting students in the Poway Unified School District.\n\n\n\n7:50 to 8:10 pm: Meet & Greet with all Candidates\n\n\n\n8:10 to 9:00 pm: Poway City Council candidates will address matters that affect business\, sustainability and quality of life issues for residents within Poway.
X-ALT-DESC;FMTTYPE=text/html:Take this opportunity to get to know your local candidates!<br />\n<br />\n<strong><span style="color:#008080\;">7:00 to 7:50 pm:</span></strong> Candidates for PUSD Board of Education<br />\npositions will address issues impacting students in the Poway Unified School District.<br />\n<br />\n<strong><span style="color:#008080\;">7:50 to 8:10 pm:</span></strong> Meet &amp\; Greet with all Candidates<br />\n<br />\n<strong><span style="color:#008080\;">8:10 to 9:00 pm:</span></strong> Poway City Council candidates will address matters that affect business\, sustainability and quality of life issues for residents within Poway.
LOCATION:Painted Rock Elementary School 16711 Martincoit Road Poway\, CA 92064
UID:e.530.13009
SEQUENCE:3
DTSTAMP:20260422T000035Z
URL:https://business.poway.com/events/details/candidates-forum-13009
END:VEVENT

END:VCALENDAR
