BEGIN:VCALENDAR
VERSION:2.0
PRODID:-//ChamberMaster//Event Calendar 2.0//EN
METHOD:PUBLISH
X-PUBLISHED-TTL:P3D
REFRESH-INTERVAL:P3D
CALSCALE:GREGORIAN
BEGIN:VEVENT
DTSTART:20220706T190000Z
DTEND:20220706T200000Z
X-MICROSOFT-CDO-ALLDAYEVENT:FALSE
SUMMARY:CANCELLED: Health & Wellness Committee Meeting
DESCRIPTION:The Health & Wellness Committee works to promote the health and wellness for Chamber members and the community.  Visit powayhealth.com for more information\, and follow @powayhealthy on Instagram\, #PowayHealthy.
X-ALT-DESC;FMTTYPE=text/html:<span style="font-family: arial\; font-size: 14px\;">The Health &amp\; Wellness Committee works to promote the health and wellness for Chamber members and the community.&nbsp\; Visit&nbsp\;</span><a href="https://www.powayhealthy.com/" style="font-family: arial\; font-size: 14px\;">powayhealth.com</a><span style="font-family: arial\; font-size: 14px\;">&nbsp\;for more information\, and follow @powayhealthy on Instagram\, #PowayHealthy.</span>
LOCATION:This meeting will be virtual. If you wish to attend virtually\, please email for link.
UID:e.530.19314
SEQUENCE:3
DTSTAMP:20260422T133139Z
URL:https://business.poway.com/events/details/cancelled-health-wellness-committee-meeting-19314
END:VEVENT

END:VCALENDAR
