BEGIN:VCALENDAR
VERSION:2.0
PRODID:-//ChamberMaster//Event Calendar 2.0//EN
METHOD:PUBLISH
X-PUBLISHED-TTL:P3D
REFRESH-INTERVAL:P3D
CALSCALE:GREGORIAN
BEGIN:VEVENT
DTSTART:20191204T170000Z
DTEND:20191204T180000Z
X-MICROSOFT-CDO-ALLDAYEVENT:FALSE
SUMMARY:Cancelled - Education Committee
DESCRIPTION:This committee coordinates exchange between the Poway Unified School District and area businesses to identify needs and provide relevant training for prospective employees.
X-ALT-DESC;FMTTYPE=text/html:<span style="font-size:14px\;"><span style="font-family:arial\;"><span style="color: rgb(17\, 17\, 17)\; background-color: rgb(255\, 255\, 255)\;">This committee coordinates exchange between the Poway Unified School District and area businesses to identify needs and provide relevant training for prospective employees.</span></span></span>
LOCATION:Cancelled
UID:e.530.15462
SEQUENCE:3
DTSTAMP:20260421T043940Z
URL:https://business.poway.com/events/details/cancelled-education-committee-15462
END:VEVENT

END:VCALENDAR
