BEGIN:VCALENDAR
VERSION:2.0
PRODID:-//ChamberMaster//Event Calendar 2.0//EN
METHOD:PUBLISH
X-PUBLISHED-TTL:P3D
REFRESH-INTERVAL:P3D
CALSCALE:GREGORIAN
BEGIN:VEVENT
DTSTART:20210106T170000Z
DTEND:20210106T180000Z
X-MICROSOFT-CDO-ALLDAYEVENT:FALSE
SUMMARY:CANCELLED: Education Committee
DESCRIPTION:Business leaders and educators connect to share resources and knowledge to better educate our chamber members.  Strives to foster a diverse platform of education and training opportunities that are relevant to business owners\, members\, and the community.
X-ALT-DESC;FMTTYPE=text/html:<span style="font-size:14px\;"><span style="font-family:arial\;"><span style="color: rgb(17\, 17\, 17)\; background-color: rgb(255\, 255\, 255)\;">Business leaders and educators connect to share resources and knowledge to better educate our chamber members.&nbsp\; Strives to foster a diverse platform of education and training opportunities that are relevant to business owners\, members\, and the community.</span></span></span>
LOCATION:This meeting will be virtual (check back for link).
UID:e.530.15475
SEQUENCE:3
DTSTAMP:20260420T080918Z
URL:https://business.poway.com/events/details/cancelled-education-committee-01-06-2021-15475
END:VEVENT

END:VCALENDAR
