BEGIN:VCALENDAR
VERSION:2.0
PRODID:-//ChamberMaster//Event Calendar 2.0//EN
METHOD:PUBLISH
X-PUBLISHED-TTL:P3D
REFRESH-INTERVAL:P3D
CALSCALE:GREGORIAN
BEGIN:VEVENT
DTSTART:20201212T200000Z
DTEND:20201212T203000Z
X-MICROSOFT-CDO-ALLDAYEVENT:FALSE
SUMMARY:Cancelled: 12 Days of December!
DESCRIPTION:12/7/20 UPDATE: Due to the Regional Stay Home orders affecting San Diego County\, this event has been cancelled.\n\n\n\n\n\nThe Poway Chamber of Commerce is joining forces with local businesses to spread some holiday cheer this season! Community members are invited to visit participating businesses between December 12-24 for a free treat/gift. \n\n\n\nThis page will be updated with a list of participating businesses prior to Dec. 12.   Businesses who wish to participate are asked to sign up here.
X-ALT-DESC;FMTTYPE=text/html:12/7/20 UPDATE: Due to the Regional Stay Home orders affecting San Diego County\, this event has been cancelled.<br />\n<br />\n<br />\nThe Poway Chamber of Commerce is joining forces with local businesses to spread some holiday cheer this season! Community members are invited to visit participating businesses between December 12-24 for a free treat/gift.&nbsp\;<br />\n<br />\nThis page will be updated with a list of participating businesses prior to Dec. 12.&nbsp\; &nbsp\;<strong>Businesses who wish to participate are asked to <a href="https://forms.gle/qunH4jkXru9jSM8s9">sign up here</a>.&nbsp\;</strong>
LOCATION:Various locations around Poway
UID:e.530.17748
SEQUENCE:3
DTSTAMP:20260420T111131Z
URL:https://business.poway.com/events/details/cancelled-12-days-of-december-17748
END:VEVENT

END:VCALENDAR
