BEGIN:VCALENDAR
VERSION:2.0
PRODID:-//ChamberMaster//Event Calendar 2.0//EN
METHOD:PUBLISH
X-PUBLISHED-TTL:P3D
REFRESH-INTERVAL:P3D
CALSCALE:GREGORIAN
BEGIN:VEVENT
DTSTART:20220625T003000Z
DTEND:20220625T043000Z
X-MICROSOFT-CDO-ALLDAYEVENT:FALSE
SUMMARY:Business Star Awards
DESCRIPTION:Registration is now closed\, however if you are interested in attending\, late registration may be available on a first-come\, first-served basis - please email us or call 858-748-0016.\n\n\n\nThe 2022 Business Star Awards and Board Installation will take place on Friday\, June 24 at Maderas Golf Club! This annual soiree\, sponsored by EDCO Disposal\, is the Chamber's premier fundraiser and is one of the most highly anticipated events of the year. Awardees will be honored\, the new Chamber Board installed\, and dinner and drinks will be served with music & entertainment to be enjoyed. This year's theme will be "007" and we look forward to providing an enjoyable\, upscale evening for members and guests.\n\n\n\nTickets - click the Register button to purchase\n\nMembers: $110 \n\nNon-Members: $125\n\n\n\nSponsorships are now SOLD OUT! Thank you to all of our Event Sponsors:\n\nTitle Sponsor: EDCO\n\nDinner Sponsor: Bill Howe Family of Companies\n\nEntertainment Sponsor: COX Communications\n\nTable Sponsors: Buchalter\, Cadence Living Poway Gardens\, Neighborhood Healthcare\, Streeter Printing\n\nAwards Sponsors: Halcyon Real Estate\, Community Chiropractic\, Farmers Insurance - Peterson Agency\, San Diego Laser Fat Loss\, The Farm\, Mainstream Bar & Grill\, California Dreaming Pools & Spa\, Anita Edmondson\, Linda Goycochea\, Cynthia Elizondo\, Realtor.
X-ALT-DESC;FMTTYPE=text/html:<em><strong>Registration is now closed\, however if you are interested in attending\, late registration may be available on a first-come\, first-served basis - please <a href="mailto:jessica@poway.com?subject=Business%20Star%20Awards">email us </a>or call 858-748-0016.</strong></em><br />\n<br />\nThe 2022 Business Star Awards and Board Installation will take place on Friday\, June 24 at Maderas Golf Club!&nbsp\;<span style="color: rgb(34\, 34\, 34)\; font-family: tahoma\, sans-serif\; font-size: small\;">This annual soiree\, sponsored by EDCO Disposal\, is the Chamber&#39\;s premier fundraiser and is one of the most highly&nbsp\;anticipated events of the year. Awardees will be honored\, the new Chamber Board installed\, and dinner and drinks will be served with music &amp\; entertainment to be enjoyed. This year&#39\;s theme will be &quot\;007&quot\; and we look forward to providing an enjoyable\, upscale evening for members and guests.</span><br />\n<br />\n<strong>Tickets - click the Register button to purchase</strong><br />\nMembers: $110&nbsp\;<br />\nNon-Members: $125<br />\n<br />\n<span style="color: rgb(34\, 34\, 34)\; font-family: tahoma\, sans-serif\; font-size: small\;"><em><strong>Sponsorships are now SOLD OUT! Thank you to all of our Event Sponsors:</strong></em><br />\nTitle Sponsor: <a href="https://business.poway.com/list/member/edco-waste-recycling-services-inc-1869">EDCO</a><br />\nDinner Sponsor: <a href="https://business.poway.com/list/member/bill-howe-plumbing-inc-10200">Bill Howe Family of Companies</a><br />\nEntertainment Sponsor: <a href="https://business.poway.com/list/member/cox-communications-1694">COX Communications</a><br />\nTable Sponsors: <a href="https://business.poway.com/list/member/buchalter-a-professional-corporation-11059">Buchalter</a>\, <a href="https://business.poway.com/list/member/cadence-at-poway-gardens-10676">Cadence Living Poway Gardens</a>\,&nbsp\;<a href="https://business.poway.com/list/member/neighborhood-healthcare-10016">Neighborhood Healthcare</a>\, <a href="https://business.poway.com/list/member/streeter-printing-5285">Streeter Printing</a><br />\nAwards Sponsors: <a href="https://business.poway.com/list/member/halcyon-real-estate-10508">Halcyon Real Estate</a>\, <a href="https://business.poway.com/list/member/community-chiropractic-center-4218">Community Chiropractic</a>\, <a href="https://business.poway.com/list/member/farmers-insurance-peterson-agency-1992">Farmers Insurance - Peterson Agency</a>\, <a href="https://business.poway.com/list/member/san-diego-laser-fat-loss-10794">San Diego Laser Fat Loss</a>\, <a href="https://business.poway.com/list/member/the-farm-in-poway-10582">The Farm</a>\, <a href="https://business.poway.com/list/member/mainstream-bar-grill-10101">Mainstream Bar &amp\; Grill</a>\, <a href="https://business.poway.com/list/member/california-dreaming-pools-10452">California Dreaming Pools &amp\; Spa</a>\, <a href="https://business.poway.com/list/member/anita-edmondson-10791">Anita Edmondson</a>\, <a href="https://business.poway.com/list/member/linda-goycochea-10312">Linda Goycochea</a>\, <a href="https://business.poway.com/list/member/cynthia-elizondo-realtor-10342">Cynthia Elizondo\, Realtor</a>.</span>
LOCATION:Maderas Golf Club 17750 Old Coach Road Poway\, CA 92064
UID:e.530.20561
SEQUENCE:3
DTSTAMP:20260422T131153Z
URL:https://business.poway.com/events/details/business-star-awards-20561
END:VEVENT

END:VCALENDAR
