BEGIN:VCALENDAR
VERSION:2.0
PRODID:-//ChamberMaster//Event Calendar 2.0//EN
METHOD:PUBLISH
X-PUBLISHED-TTL:P3D
REFRESH-INTERVAL:P3D
CALSCALE:GREGORIAN
BEGIN:VEVENT
DTSTART:20201120T000000Z
DTEND:20201120T020000Z
X-MICROSOFT-CDO-ALLDAYEVENT:FALSE
SUMMARY:Board of Directors Meeting
DESCRIPTION:The Poway Chamber Board of Directors meets monthly on the third Thursday of the month. They discuss new members\, events and items that impact the Chamber.\n\n\n\nTopic: Poway Chamber of Commerce BOD Meeting\n\nTime: Nov 19\, 2020 04:00 PM Pacific Time (US and Canada)\n\n        Every month on the Third Thu\, 7 occurrence(s)\n\n        Nov 19\, 2020 04:00 PM\n\n        Dec 17\, 2020 04:00 PM\n\n        Jan 21\, 2021 04:00 PM\n\n        Feb 18\, 2021 04:00 PM\n\n        Mar 18\, 2021 04:00 PM\n\n        Apr 15\, 2021 04:00 PM\n\n        May 20\, 2021 04:00 PM\n\nPlease download and import the following iCalendar (.ics) files to your calendar system.\n\nMonthly: https://us02web.zoom.us/meeting/tZctfuGpqj0iE9HYXRb0mYuAoQm7sombBxGA/ics?icsToken=98tyKuGrrjIiG9CTuBCCRpwqAor4WevwiCFHj_p1pSfXAXBeWxbXOdNPZaFwHdry\n\n\n\nJoin Zoom Meeting\n\nhttps://us02web.zoom.us/j/83098146895?pwd=TzhkNThGWWxaWC9FdnFNcWt6TXFjUT09\n\n\n\nMeeting ID: 830 9814 6895\n\nPasscode: 051561\n\nOne tap mobile\n\n+16699006833\,\,83098146895#\,\,\,\,\,\,0#\,\,051561# US (San Jose)\n\n+13462487799\,\,83098146895#\,\,\,\,\,\,0#\,\,051561# US (Houston)\n\n\n\nDial by your location\n\n        +1 669 900 6833 US (San Jose)\n\n        +1 346 248 7799 US (Houston)\n\n        +1 253 215 8782 US (Tacoma)\n\n        +1 929 205 6099 US (New York)\n\n        +1 301 715 8592 US (Washington D.C)\n\n        +1 312 626 6799 US (Chicago)\n\nMeeting ID: 830 9814 6895\n\nPasscode: 051561\n\nFind your local number: https://us02web.zoom.us/u/kbH9Sr2mvP
X-ALT-DESC;FMTTYPE=text/html:The Poway Chamber Board of Directors meets monthly on the third Thursday of the month. They discuss new members\, events and items that impact the Chamber.<br />\n<br />\n<span style="color: rgb(34\, 34\, 34)\; font-family: Arial\, Helvetica\, sans-serif\; font-size: small\;">Topic: Poway Chamber of Commerce BOD Meeting</span><br style="color: rgb(34\, 34\, 34)\; font-family: Arial\, Helvetica\, sans-serif\; font-size: small\;" />\n<span style="color: rgb(34\, 34\, 34)\; font-family: Arial\, Helvetica\, sans-serif\; font-size: small\;">Time: Nov 19\, 2020 04:00 PM Pacific Time (US and Canada)</span><br style="color: rgb(34\, 34\, 34)\; font-family: Arial\, Helvetica\, sans-serif\; font-size: small\;" />\n<span style="color: rgb(34\, 34\, 34)\; font-family: Arial\, Helvetica\, sans-serif\; font-size: small\;">&nbsp\; &nbsp\; &nbsp\; &nbsp\; Every month on the Third Thu\, 7 occurrence(s)</span><br style="color: rgb(34\, 34\, 34)\; font-family: Arial\, Helvetica\, sans-serif\; font-size: small\;" />\n<span style="color: rgb(34\, 34\, 34)\; font-family: Arial\, Helvetica\, sans-serif\; font-size: small\;">&nbsp\; &nbsp\; &nbsp\; &nbsp\; Nov 19\, 2020 04:00 PM</span><br style="color: rgb(34\, 34\, 34)\; font-family: Arial\, Helvetica\, sans-serif\; font-size: small\;" />\n<span style="color: rgb(34\, 34\, 34)\; font-family: Arial\, Helvetica\, sans-serif\; font-size: small\;">&nbsp\; &nbsp\; &nbsp\; &nbsp\; Dec 17\, 2020 04:00 PM</span><br style="color: rgb(34\, 34\, 34)\; font-family: Arial\, Helvetica\, sans-serif\; font-size: small\;" />\n<span style="color: rgb(34\, 34\, 34)\; font-family: Arial\, Helvetica\, sans-serif\; font-size: small\;">&nbsp\; &nbsp\; &nbsp\; &nbsp\; Jan 21\, 2021 04:00 PM</span><br style="color: rgb(34\, 34\, 34)\; font-family: Arial\, Helvetica\, sans-serif\; font-size: small\;" />\n<span style="color: rgb(34\, 34\, 34)\; font-family: Arial\, Helvetica\, sans-serif\; font-size: small\;">&nbsp\; &nbsp\; &nbsp\; &nbsp\; Feb 18\, 2021 04:00 PM</span><br style="color: rgb(34\, 34\, 34)\; font-family: Arial\, Helvetica\, sans-serif\; font-size: small\;" />\n<span style="color: rgb(34\, 34\, 34)\; font-family: Arial\, Helvetica\, sans-serif\; font-size: small\;">&nbsp\; &nbsp\; &nbsp\; &nbsp\; Mar 18\, 2021 04:00 PM</span><br style="color: rgb(34\, 34\, 34)\; font-family: Arial\, Helvetica\, sans-serif\; font-size: small\;" />\n<span style="color: rgb(34\, 34\, 34)\; font-family: Arial\, Helvetica\, sans-serif\; font-size: small\;">&nbsp\; &nbsp\; &nbsp\; &nbsp\; Apr 15\, 2021 04:00 PM</span><br style="color: rgb(34\, 34\, 34)\; font-family: Arial\, Helvetica\, sans-serif\; font-size: small\;" />\n<span style="color: rgb(34\, 34\, 34)\; font-family: Arial\, Helvetica\, sans-serif\; font-size: small\;">&nbsp\; &nbsp\; &nbsp\; &nbsp\; May 20\, 2021 04:00 PM</span><br style="color: rgb(34\, 34\, 34)\; font-family: Arial\, Helvetica\, sans-serif\; font-size: small\;" />\n<span style="color: rgb(34\, 34\, 34)\; font-family: Arial\, Helvetica\, sans-serif\; font-size: small\;">Please download and import the following iCalendar (.ics) files to your calendar system.</span><br style="color: rgb(34\, 34\, 34)\; font-family: Arial\, Helvetica\, sans-serif\; font-size: small\;" />\n<span style="color: rgb(34\, 34\, 34)\; font-family: Arial\, Helvetica\, sans-serif\; font-size: small\;">Monthly:&nbsp\;</span><a data-saferedirecturl="https://www.google.com/url?q=https://us02web.zoom.us/meeting/tZctfuGpqj0iE9HYXRb0mYuAoQm7sombBxGA/ics?icsToken%3D98tyKuGrrjIiG9CTuBCCRpwqAor4WevwiCFHj_p1pSfXAXBeWxbXOdNPZaFwHdry&amp\;source=gmail&amp\;ust=1605372118175000&amp\;usg=AFQjCNHupdETCFQCUFPTetDp6pDBSWOPVQ" href="https://us02web.zoom.us/meeting/tZctfuGpqj0iE9HYXRb0mYuAoQm7sombBxGA/ics?icsToken=98tyKuGrrjIiG9CTuBCCRpwqAor4WevwiCFHj_p1pSfXAXBeWxbXOdNPZaFwHdry" style="color: rgb(17\, 85\, 204)\; font-family: Arial\, Helvetica\, sans-serif\; font-size: small\;" target="_blank">https://us02web.zoom.us/<wbr />meeting/<wbr />tZctfuGpqj0iE9HYXRb0mYuAoQm7so<wbr />mbBxGA/ics?icsToken=<wbr />98tyKuGrrjIiG9CTuBCCRpwqAor4We<wbr />vwiCFHj_<wbr />p1pSfXAXBeWxbXOdNPZaFwHdry</a><br style="color: rgb(34\, 34\, 34)\; font-family: Arial\, Helvetica\, sans-serif\; font-size: small\;" />\n<br style="color: rgb(34\, 34\, 34)\; font-family: Arial\, Helvetica\, sans-serif\; font-size: small\;" />\n<span style="color: rgb(34\, 34\, 34)\; font-family: Arial\, Helvetica\, sans-serif\; font-size: small\;">Join Zoom Meeting</span><br style="color: rgb(34\, 34\, 34)\; font-family: Arial\, Helvetica\, sans-serif\; font-size: small\;" />\n<a data-saferedirecturl="https://www.google.com/url?q=https://us02web.zoom.us/j/83098146895?pwd%3DTzhkNThGWWxaWC9FdnFNcWt6TXFjUT09&amp\;source=gmail&amp\;ust=1605372118175000&amp\;usg=AFQjCNGGNARYAwOqKjgO2aTNIhRBWSUYJA" href="https://us02web.zoom.us/j/83098146895?pwd=TzhkNThGWWxaWC9FdnFNcWt6TXFjUT09" style="color: rgb(17\, 85\, 204)\; font-family: Arial\, Helvetica\, sans-serif\; font-size: small\;" target="_blank">https://us02web.zoom.us/j/<wbr />83098146895?pwd=<wbr />TzhkNThGWWxaWC9FdnFNcWt6TXFjUT<wbr />09</a><br style="color: rgb(34\, 34\, 34)\; font-family: Arial\, Helvetica\, sans-serif\; font-size: small\;" />\n<br style="color: rgb(34\, 34\, 34)\; font-family: Arial\, Helvetica\, sans-serif\; font-size: small\;" />\n<span style="color: rgb(34\, 34\, 34)\; font-family: Arial\, Helvetica\, sans-serif\; font-size: small\;">Meeting ID: 830 9814 6895</span><br style="color: rgb(34\, 34\, 34)\; font-family: Arial\, Helvetica\, sans-serif\; font-size: small\;" />\n<span style="color: rgb(34\, 34\, 34)\; font-family: Arial\, Helvetica\, sans-serif\; font-size: small\;">Passcode: 051561</span><br style="color: rgb(34\, 34\, 34)\; font-family: Arial\, Helvetica\, sans-serif\; font-size: small\;" />\n<span style="color: rgb(34\, 34\, 34)\; font-family: Arial\, Helvetica\, sans-serif\; font-size: small\;">One tap mobile</span><br style="color: rgb(34\, 34\, 34)\; font-family: Arial\, Helvetica\, sans-serif\; font-size: small\;" />\n<span style="color: rgb(34\, 34\, 34)\; font-family: Arial\, Helvetica\, sans-serif\; font-size: small\;">+16699006833\,\,83098146895#\,\,\,\,</span><wbr style="color: rgb(34\, 34\, 34)\; font-family: Arial\, Helvetica\, sans-serif\; font-size: small\;" /><span style="color: rgb(34\, 34\, 34)\; font-family: Arial\, Helvetica\, sans-serif\; font-size: small\;">\,\,0#\,\,051561# US (San Jose)</span><br style="color: rgb(34\, 34\, 34)\; font-family: Arial\, Helvetica\, sans-serif\; font-size: small\;" />\n<span style="color: rgb(34\, 34\, 34)\; font-family: Arial\, Helvetica\, sans-serif\; font-size: small\;">+13462487799\,\,83098146895#\,\,\,\,</span><wbr style="color: rgb(34\, 34\, 34)\; font-family: Arial\, Helvetica\, sans-serif\; font-size: small\;" /><span style="color: rgb(34\, 34\, 34)\; font-family: Arial\, Helvetica\, sans-serif\; font-size: small\;">\,\,0#\,\,051561# US (Houston)</span><br style="color: rgb(34\, 34\, 34)\; font-family: Arial\, Helvetica\, sans-serif\; font-size: small\;" />\n<br style="color: rgb(34\, 34\, 34)\; font-family: Arial\, Helvetica\, sans-serif\; font-size: small\;" />\n<span style="color: rgb(34\, 34\, 34)\; font-family: Arial\, Helvetica\, sans-serif\; font-size: small\;">Dial by your location</span><br style="color: rgb(34\, 34\, 34)\; font-family: Arial\, Helvetica\, sans-serif\; font-size: small\;" />\n<span style="color: rgb(34\, 34\, 34)\; font-family: Arial\, Helvetica\, sans-serif\; font-size: small\;">&nbsp\; &nbsp\; &nbsp\; &nbsp\; +1 669 900 6833 US (San Jose)</span><br style="color: rgb(34\, 34\, 34)\; font-family: Arial\, Helvetica\, sans-serif\; font-size: small\;" />\n<span style="color: rgb(34\, 34\, 34)\; font-family: Arial\, Helvetica\, sans-serif\; font-size: small\;">&nbsp\; &nbsp\; &nbsp\; &nbsp\; +1 346 248 7799 US (Houston)</span><br style="color: rgb(34\, 34\, 34)\; font-family: Arial\, Helvetica\, sans-serif\; font-size: small\;" />\n<span style="color: rgb(34\, 34\, 34)\; font-family: Arial\, Helvetica\, sans-serif\; font-size: small\;">&nbsp\; &nbsp\; &nbsp\; &nbsp\; +1 253 215 8782 US (Tacoma)</span><br style="color: rgb(34\, 34\, 34)\; font-family: Arial\, Helvetica\, sans-serif\; font-size: small\;" />\n<span style="color: rgb(34\, 34\, 34)\; font-family: Arial\, Helvetica\, sans-serif\; font-size: small\;">&nbsp\; &nbsp\; &nbsp\; &nbsp\; +1 929 205 6099 US (New York)</span><br style="color: rgb(34\, 34\, 34)\; font-family: Arial\, Helvetica\, sans-serif\; font-size: small\;" />\n<span style="color: rgb(34\, 34\, 34)\; font-family: Arial\, Helvetica\, sans-serif\; font-size: small\;">&nbsp\; &nbsp\; &nbsp\; &nbsp\; +1 301 715 8592 US (Washington D.C)</span><br style="color: rgb(34\, 34\, 34)\; font-family: Arial\, Helvetica\, sans-serif\; font-size: small\;" />\n<span style="color: rgb(34\, 34\, 34)\; font-family: Arial\, Helvetica\, sans-serif\; font-size: small\;">&nbsp\; &nbsp\; &nbsp\; &nbsp\; +1 312 626 6799 US (Chicago)</span><br style="color: rgb(34\, 34\, 34)\; font-family: Arial\, Helvetica\, sans-serif\; font-size: small\;" />\n<span style="color: rgb(34\, 34\, 34)\; font-family: Arial\, Helvetica\, sans-serif\; font-size: small\;">Meeting ID: 830 9814 6895</span><br style="color: rgb(34\, 34\, 34)\; font-family: Arial\, Helvetica\, sans-serif\; font-size: small\;" />\n<span style="color: rgb(34\, 34\, 34)\; font-family: Arial\, Helvetica\, sans-serif\; font-size: small\;">Passcode: 051561</span><br style="color: rgb(34\, 34\, 34)\; font-family: Arial\, Helvetica\, sans-serif\; font-size: small\;" />\n<span style="color: rgb(34\, 34\, 34)\; font-family: Arial\, Helvetica\, sans-serif\; font-size: small\;">Find your local number:&nbsp\;</span><a data-saferedirecturl="https://www.google.com/url?q=https://us02web.zoom.us/u/kbH9Sr2mvP&amp\;source=gmail&amp\;ust=1605372118175000&amp\;usg=AFQjCNH2-7ykU2ZneD1rmCEl69OIik3DRg" href="https://us02web.zoom.us/u/kbH9Sr2mvP" style="color: rgb(17\, 85\, 204)\; font-family: Arial\, Helvetica\, sans-serif\; font-size: small\;" target="_blank">https://us02web.zoom.us/u/<wbr />kbH9Sr2mvP</a>
LOCATION:https://us02web.zoom.us/j/83098146895?pwd=TzhkNThGWWxaWC9FdnFNcWt6TXFjUT09
UID:e.530.9972
SEQUENCE:3
DTSTAMP:20260420T111428Z
URL:https://business.poway.com/events/details/board-of-directors-meeting-11-19-2020-9972
END:VEVENT

END:VCALENDAR
