BEGIN:VCALENDAR
VERSION:2.0
PRODID:-//ChamberMaster//Event Calendar 2.0//EN
METHOD:PUBLISH
X-PUBLISHED-TTL:P3D
REFRESH-INTERVAL:P3D
CALSCALE:GREGORIAN
BEGIN:VEVENT
DTSTART:20200821T000000Z
DTEND:20200821T020000Z
X-MICROSOFT-CDO-ALLDAYEVENT:FALSE
SUMMARY:Board of Directors Meeting
DESCRIPTION:The Poway Chamber Board of Directors meets monthly on the third Thursday of the month. They discuss new members\, events and items that impact the Chamber.\n\n\n\nJoin Zoom Meeting\n\nhttps://us02web.zoom.us/j/83098146895?pwd=TzhkNThGWWxaWC9FdnFNcWt6TXFjUT09\n\n\n\nMeeting ID: 830 9814 6895\n\nPasscode: 051561\n\nOne tap mobile\n\n+16699006833\,\,83098146895#\,\,\,\,\,\,0#\,\,051561# US (San Jose)\n\n+13462487799\,\,83098146895#\,\,\,\,\,\,0#\,\,051561# US (Houston)\n\n\n\nDial by your location\n\n        +1 669 900 6833 US (San Jose)\n\n        +1 346 248 7799 US (Houston)\n\n        +1 253 215 8782 US (Tacoma)\n\n        +1 929 205 6099 US (New York)\n\n        +1 301 715 8592 US (Germantown)\n\n        +1 312 626 6799 US (Chicago)\n\nMeeting ID: 830 9814 6895\n\nPasscode: 051561\n\nFind your local number: https://us02web.zoom.us/u/kbH9Sr2mvP
X-ALT-DESC;FMTTYPE=text/html:The Poway Chamber Board of Directors meets monthly on the third Thursday of the month. They discuss new members\, events and items that impact the Chamber.<br />\n<br />\n<span style="color: rgb(34\, 34\, 34)\; font-family: Arial\, Helvetica\, sans-serif\; font-size: small\;">Join Zoom Meeting</span><br style="color: rgb(34\, 34\, 34)\; font-family: Arial\, Helvetica\, sans-serif\; font-size: small\;" />\n<a data-saferedirecturl="https://www.google.com/url?q=https://us02web.zoom.us/j/83098146895?pwd%3DTzhkNThGWWxaWC9FdnFNcWt6TXFjUT09&amp\;source=gmail&amp\;ust=1597769798670000&amp\;usg=AFQjCNFyrlqArsgNnsbDQ4HS6K528vYPyw" href="https://us02web.zoom.us/j/83098146895?pwd=TzhkNThGWWxaWC9FdnFNcWt6TXFjUT09" style="color: rgb(17\, 85\, 204)\; font-family: Arial\, Helvetica\, sans-serif\; font-size: small\;" target="_blank">https://us02web.zoom.us/j/<wbr />83098146895?pwd=<wbr />TzhkNThGWWxaWC9FdnFNcWt6TXFjUT<wbr />09</a><br style="color: rgb(34\, 34\, 34)\; font-family: Arial\, Helvetica\, sans-serif\; font-size: small\;" />\n<br style="color: rgb(34\, 34\, 34)\; font-family: Arial\, Helvetica\, sans-serif\; font-size: small\;" />\n<span style="color: rgb(34\, 34\, 34)\; font-family: Arial\, Helvetica\, sans-serif\; font-size: small\;">Meeting ID: 830 9814 6895</span><br style="color: rgb(34\, 34\, 34)\; font-family: Arial\, Helvetica\, sans-serif\; font-size: small\;" />\n<span style="color: rgb(34\, 34\, 34)\; font-family: Arial\, Helvetica\, sans-serif\; font-size: small\;">Passcode: 051561</span><br style="color: rgb(34\, 34\, 34)\; font-family: Arial\, Helvetica\, sans-serif\; font-size: small\;" />\n<span style="color: rgb(34\, 34\, 34)\; font-family: Arial\, Helvetica\, sans-serif\; font-size: small\;">One tap mobile</span><br style="color: rgb(34\, 34\, 34)\; font-family: Arial\, Helvetica\, sans-serif\; font-size: small\;" />\n<span style="color: rgb(34\, 34\, 34)\; font-family: Arial\, Helvetica\, sans-serif\; font-size: small\;">+16699006833\,\,83098146895#\,\,\,\,</span><wbr style="color: rgb(34\, 34\, 34)\; font-family: Arial\, Helvetica\, sans-serif\; font-size: small\;" /><span style="color: rgb(34\, 34\, 34)\; font-family: Arial\, Helvetica\, sans-serif\; font-size: small\;">\,\,0#\,\,051561# US (San Jose)</span><br style="color: rgb(34\, 34\, 34)\; font-family: Arial\, Helvetica\, sans-serif\; font-size: small\;" />\n<span style="color: rgb(34\, 34\, 34)\; font-family: Arial\, Helvetica\, sans-serif\; font-size: small\;">+13462487799\,\,83098146895#\,\,\,\,</span><wbr style="color: rgb(34\, 34\, 34)\; font-family: Arial\, Helvetica\, sans-serif\; font-size: small\;" /><span style="color: rgb(34\, 34\, 34)\; font-family: Arial\, Helvetica\, sans-serif\; font-size: small\;">\,\,0#\,\,051561# US (Houston)</span><br style="color: rgb(34\, 34\, 34)\; font-family: Arial\, Helvetica\, sans-serif\; font-size: small\;" />\n<br style="color: rgb(34\, 34\, 34)\; font-family: Arial\, Helvetica\, sans-serif\; font-size: small\;" />\n<span style="color: rgb(34\, 34\, 34)\; font-family: Arial\, Helvetica\, sans-serif\; font-size: small\;">Dial by your location</span><br style="color: rgb(34\, 34\, 34)\; font-family: Arial\, Helvetica\, sans-serif\; font-size: small\;" />\n<span style="color: rgb(34\, 34\, 34)\; font-family: Arial\, Helvetica\, sans-serif\; font-size: small\;">&nbsp\; &nbsp\; &nbsp\; &nbsp\; +1 669 900 6833 US (San Jose)</span><br style="color: rgb(34\, 34\, 34)\; font-family: Arial\, Helvetica\, sans-serif\; font-size: small\;" />\n<span style="color: rgb(34\, 34\, 34)\; font-family: Arial\, Helvetica\, sans-serif\; font-size: small\;">&nbsp\; &nbsp\; &nbsp\; &nbsp\; +1 346 248 7799 US (Houston)</span><br style="color: rgb(34\, 34\, 34)\; font-family: Arial\, Helvetica\, sans-serif\; font-size: small\;" />\n<span style="color: rgb(34\, 34\, 34)\; font-family: Arial\, Helvetica\, sans-serif\; font-size: small\;">&nbsp\; &nbsp\; &nbsp\; &nbsp\; +1 253 215 8782 US (Tacoma)</span><br style="color: rgb(34\, 34\, 34)\; font-family: Arial\, Helvetica\, sans-serif\; font-size: small\;" />\n<span style="color: rgb(34\, 34\, 34)\; font-family: Arial\, Helvetica\, sans-serif\; font-size: small\;">&nbsp\; &nbsp\; &nbsp\; &nbsp\; +1 929 205 6099 US (New York)</span><br style="color: rgb(34\, 34\, 34)\; font-family: Arial\, Helvetica\, sans-serif\; font-size: small\;" />\n<span style="color: rgb(34\, 34\, 34)\; font-family: Arial\, Helvetica\, sans-serif\; font-size: small\;">&nbsp\; &nbsp\; &nbsp\; &nbsp\; +1 301 715 8592 US (Germantown)</span><br style="color: rgb(34\, 34\, 34)\; font-family: Arial\, Helvetica\, sans-serif\; font-size: small\;" />\n<span style="color: rgb(34\, 34\, 34)\; font-family: Arial\, Helvetica\, sans-serif\; font-size: small\;">&nbsp\; &nbsp\; &nbsp\; &nbsp\; +1 312 626 6799 US (Chicago)</span><br style="color: rgb(34\, 34\, 34)\; font-family: Arial\, Helvetica\, sans-serif\; font-size: small\;" />\n<span style="color: rgb(34\, 34\, 34)\; font-family: Arial\, Helvetica\, sans-serif\; font-size: small\;">Meeting ID: 830 9814 6895</span><br style="color: rgb(34\, 34\, 34)\; font-family: Arial\, Helvetica\, sans-serif\; font-size: small\;" />\n<span style="color: rgb(34\, 34\, 34)\; font-family: Arial\, Helvetica\, sans-serif\; font-size: small\;">Passcode: 051561</span><br style="color: rgb(34\, 34\, 34)\; font-family: Arial\, Helvetica\, sans-serif\; font-size: small\;" />\n<span style="color: rgb(34\, 34\, 34)\; font-family: Arial\, Helvetica\, sans-serif\; font-size: small\;">Find your local number:&nbsp\;</span><a data-saferedirecturl="https://www.google.com/url?q=https://us02web.zoom.us/u/kbH9Sr2mvP&amp\;source=gmail&amp\;ust=1597769798670000&amp\;usg=AFQjCNFCyvqrNPz67NSdXiSRIoCI8VSBDA" href="https://us02web.zoom.us/u/kbH9Sr2mvP" style="color: rgb(17\, 85\, 204)\; font-family: Arial\, Helvetica\, sans-serif\; font-size: small\;" target="_blank">https://us02web.zoom.us/u/<wbr />kbH9Sr2mvP</a><br />\n&nbsp\;
LOCATION:https://us02web.zoom.us/j/83098146895?pwd=TzhkNThGWWxaWC9FdnFNcWt6TXFjUT09
UID:e.530.9969
SEQUENCE:3
DTSTAMP:20260420T152057Z
URL:https://business.poway.com/events/details/board-of-directors-meeting-08-20-2020-9969
END:VEVENT

END:VCALENDAR
